BEGIN:VCALENDAR
VERSION:2.0
PRODID:-//achurchnearyou.com//eventfeed//EN
CALSCALE:GREGORIAN
METHOD:PUBLISH
X-WR-TIMEZONE:UTC
BEGIN:VEVENT
SUMMARY:Compline
DTSTART:20260401T180000Z
DTEND:20260401T183000Z
DTSTAMP:20260420T232705Z
UID:11973722026-04-01 18:00:00+00:00achurchnearyou
CATEGORIES:
DESCRIPTION:A service of Compline during Holy Week.
GEO:-4.965396;50.374777
LOCATION:St Enoder
URL:https://www.achurchnearyou.com/church/2456/service-and-events/events/1
 197372/
END:VEVENT
END:VCALENDAR
