BEGIN:VCALENDAR
VERSION:2.0
PRODID:-//achurchnearyou.com//eventfeed//EN
CALSCALE:GREGORIAN
METHOD:PUBLISH
X-WR-TIMEZONE:UTC
BEGIN:VEVENT
SUMMARY:Holy Communion
DTSTART:20260503T083000Z
DTEND:20260503T093000Z
DTSTAMP:20260425T234821Z
UID:13243862026-05-03 08:30:00+00:00achurchnearyou
CATEGORIES:
DESCRIPTION:Revd Stephen Williams
GEO:-4.79067;50.27366
LOCATION:Mevagissey: St Peter
URL:https://www.achurchnearyou.com/church/2466/service-and-events/events/1
 324386/
END:VEVENT
END:VCALENDAR
