BEGIN:VCALENDAR
VERSION:2.0
PRODID:-//achurchnearyou.com//eventfeed//EN
CALSCALE:GREGORIAN
METHOD:PUBLISH
X-WR-TIMEZONE:UTC
BEGIN:VEVENT
SUMMARY:Morning Prayer
DTSTART:20260614T083000Z
DTEND:20260614T093000Z
DTSTAMP:20260426T033904Z
UID:13243982026-06-14 08:30:00+00:00achurchnearyou
CATEGORIES:
DESCRIPTION:Shirley Jorey a local worship leader is leading this service a
 t St Peter’s for the first time.
GEO:-4.79067;50.27366
LOCATION:Mevagissey: St Peter
URL:https://www.achurchnearyou.com/church/2466/service-and-events/events/1
 324398/
END:VEVENT
END:VCALENDAR
