BEGIN:VCALENDAR
VERSION:2.0
PRODID:-//achurchnearyou.com//eventfeed//EN
CALSCALE:GREGORIAN
METHOD:PUBLISH
X-WR-TIMEZONE:UTC
BEGIN:VEVENT
SUMMARY:Walk with the Cross
DTSTART:20250418T093000Z
DTEND:20250418T110000Z
DTSTAMP:20260424T235419Z
UID:11932522025-04-18 09:30:00+00:00achurchnearyou
CATEGORIES:
DESCRIPTION:Join with Christians from across St Austell as we walk through
  the town following a cross. Bible readings\, songs and prayer will featur
 e on the walk before we arrive at Aylmer Square for Church in the Square. 
 Church in the Square will be a time of worship with  churches  from St Aus
 tell.
GEO:-4.792074;50.338393
LOCATION:Holy Trinity\, St Austell
URL:https://www.achurchnearyou.com/church/2469/service-and-events/events/1
 193252/
END:VEVENT
END:VCALENDAR
