BEGIN:VCALENDAR
VERSION:2.0
PRODID:-//achurchnearyou.com//eventfeed//EN
CALSCALE:GREGORIAN
METHOD:PUBLISH
X-WR-TIMEZONE:UTC
BEGIN:VEVENT
SUMMARY:Easter Fun Day SATURDAY 4th APRIL
DTSTART:20260404T130000Z
DTEND:20260404T150000Z
DTSTAMP:20260423T162401Z
UID:13167832026-04-04 13:00:00+00:00achurchnearyou
CATEGORIES:
DESCRIPTION:Saturday 4th April is our Easter Fun Day with Crafts\, Bouncy 
 Castle\, Easter Egg Trail and more\, for all the family. Refreshments avai
 lable!\n\n2:00pm - 4:00pm\nHoly Trinity Church
GEO:-4.792074;50.338393
LOCATION:Holy Trinity\, St Austell
URL:https://www.achurchnearyou.com/church/2469/service-and-events/events/1
 316783/
END:VEVENT
END:VCALENDAR
