BEGIN:VCALENDAR
VERSION:2.0
PRODID:-//achurchnearyou.com//eventfeed//EN
CALSCALE:GREGORIAN
METHOD:PUBLISH
X-WR-TIMEZONE:UTC
BEGIN:VEVENT
SUMMARY:Lunchtime Friends Group visit to Festival of Christmas Trees
DTSTART:20261201T120000Z
DTEND:20261201T143000Z
DTSTAMP:20260425T214846Z
UID:13262382026-12-01 12:00:00+00:00achurchnearyou
CATEGORIES:
DESCRIPTION:Lunchtime Friends Group normally meet at CLAYTAWC but will be 
 visiting the church to see the Christmas Trees\, share a pasty lunch and s
 ome Christmas activities. Transport will be provided for those that need i
 t.
GEO:-4.884411;50.388834
LOCATION:St Denys Church\, St Dennis
URL:https://www.achurchnearyou.com/church/2471/service-and-events/events/1
 326238/
END:VEVENT
END:VCALENDAR
