BEGIN:VCALENDAR
VERSION:2.0
PRODID:-//achurchnearyou.com//eventfeed//EN
CALSCALE:GREGORIAN
METHOD:PUBLISH
X-WR-TIMEZONE:UTC
BEGIN:VEVENT
SUMMARY:Remembrance Day
DTSTART:20251109T101500Z
DTEND:20251109T111500Z
DTSTAMP:20260420T062643Z
UID:12416302025-11-09 10:15:00+00:00achurchnearyou
CATEGORIES:
DESCRIPTION:Remembrance Day \, Sunday 9th November
GEO:-4.764175;50.525712
LOCATION:St Mabyn: St Mabena
URL:https://www.achurchnearyou.com/church/2491/service-and-events/events/1
 241630/
END:VEVENT
END:VCALENDAR
