BEGIN:VCALENDAR
VERSION:2.0
PRODID:-//achurchnearyou.com//eventfeed//EN
CALSCALE:GREGORIAN
METHOD:PUBLISH
X-WR-TIMEZONE:UTC
BEGIN:VEVENT
SUMMARY:ST SWITHIN'S CHURCH\, LAUNCELLS - Benefice Service with Holy Commu
 nion
DTSTART:20250629T093000Z
DTEND:20250629T103000Z
DTSTAMP:20260425T205316Z
UID:12074952025-06-29 09:30:00+00:00achurchnearyou
CATEGORIES:
DESCRIPTION:Sunday 29th June at 10.30am\nCoffee and Tea will be served aft
 er the service.\nAll are very welcome to stay.
LOCATION:Parish Church of St Swithin
URL:https://www.achurchnearyou.com/church/2497/service-and-events/events/1
 207495/
END:VEVENT
END:VCALENDAR
