BEGIN:VCALENDAR
VERSION:2.0
PRODID:-//achurchnearyou.com//eventfeed//EN
CALSCALE:GREGORIAN
METHOD:PUBLISH
X-WR-TIMEZONE:UTC
BEGIN:VEVENT
SUMMARY:ST GENNYS BIG BREAKFAST
DTSTART:20250622T083000Z
DTEND:20250622T130000Z
DTSTAMP:20260421T071444Z
UID:12059252025-06-22 08:30:00+00:00achurchnearyou
CATEGORIES:
DESCRIPTION:Come & enjoy a traditional English breakfast - Sunday 22nd Jun
 e!\n\nPlease see attached poster for details.
LOCATION:Penwyth
URL:https://www.achurchnearyou.com/church/2504/service-and-events/events/1
 205925/
END:VEVENT
END:VCALENDAR
