BEGIN:VCALENDAR
VERSION:2.0
PRODID:-//achurchnearyou.com//eventfeed//EN
CALSCALE:GREGORIAN
METHOD:PUBLISH
X-WR-TIMEZONE:UTC
BEGIN:VEVENT
SUMMARY:Holy Communion
DTSTART:20251225T103000Z
DTEND:20251225T113000Z
DTSTAMP:20260421T210836Z
UID:12732992025-12-25 10:30:00+00:00achurchnearyou
CATEGORIES:
DESCRIPTION:Do come and join us for Holy Communion on Christmas morning. E
 veryone welcome.
GEO:-4.44497;50.653385
LOCATION:Egloskerry: St Petrock & St Keri
URL:https://www.achurchnearyou.com/church/2512/service-and-events/events/1
 273299/
END:VEVENT
END:VCALENDAR
