BEGIN:VCALENDAR
VERSION:2.0
PRODID:-//achurchnearyou.com//eventfeed//EN
CALSCALE:GREGORIAN
METHOD:PUBLISH
X-WR-TIMEZONE:UTC
BEGIN:VEVENT
SUMMARY:Sung Eucharist at St. John’s.
DTSTART;TZID=Europe/London:20250810T111500
DTEND;TZID=Europe/London:20250810T121500
DTSTAMP:20260422T155152Z
UID:12070822025-08-10 11:15:00+01:00achurchnearyou
CATEGORIES:
DESCRIPTION:This service takes place most Sundays\, but not all. Please ch
 eck the dates. On Sunday\, 29 June\, there will be a  Benefice Eucharist a
 nd Baptism\, starting at 10.30am.
LOCATION:St John’s Church\, Kidmore End
URL:https://www.achurchnearyou.com/church/252/service-and-events/events/12
 07082/
END:VEVENT
BEGIN:VEVENT
SUMMARY:Sung Eucharist at St. John’s.
DTSTART;TZID=Europe/London:20250713T111500
DTEND;TZID=Europe/London:20250713T121500
DTSTAMP:20260422T155152Z
UID:12070822025-07-13 11:15:00+01:00achurchnearyou
CATEGORIES:
DESCRIPTION:This service takes place most Sundays\, but not all. Please ch
 eck the dates. On Sunday\, 29 June\, there will be a  Benefice Eucharist a
 nd Baptism\, starting at 10.30am.
LOCATION:St John’s Church\, Kidmore End
URL:https://www.achurchnearyou.com/church/252/service-and-events/events/12
 07082/
END:VEVENT
BEGIN:VEVENT
SUMMARY:Sung Eucharist at St. John’s.
DTSTART;TZID=Europe/London:20250720T111500
DTEND;TZID=Europe/London:20250720T121500
DTSTAMP:20260422T155152Z
UID:12070822025-07-20 11:15:00+01:00achurchnearyou
CATEGORIES:
DESCRIPTION:This service takes place most Sundays\, but not all. Please ch
 eck the dates. On Sunday\, 29 June\, there will be a  Benefice Eucharist a
 nd Baptism\, starting at 10.30am.
LOCATION:St John’s Church\, Kidmore End
URL:https://www.achurchnearyou.com/church/252/service-and-events/events/12
 07082/
END:VEVENT
BEGIN:VEVENT
SUMMARY:Sung Eucharist at St. John’s.
DTSTART;TZID=Europe/London:20250727T111500
DTEND;TZID=Europe/London:20250727T121500
DTSTAMP:20260422T155152Z
UID:12070822025-07-27 11:15:00+01:00achurchnearyou
CATEGORIES:
DESCRIPTION:This service takes place most Sundays\, but not all. Please ch
 eck the dates. On Sunday\, 29 June\, there will be a  Benefice Eucharist a
 nd Baptism\, starting at 10.30am.
LOCATION:St John’s Church\, Kidmore End
URL:https://www.achurchnearyou.com/church/252/service-and-events/events/12
 07082/
END:VEVENT
END:VCALENDAR
