BEGIN:VCALENDAR
VERSION:2.0
PRODID:-//achurchnearyou.com//eventfeed//EN
CALSCALE:GREGORIAN
METHOD:PUBLISH
X-WR-TIMEZONE:UTC
BEGIN:VEVENT
SUMMARY:Service of the Word.
DTSTART;TZID=Europe/London:20251109T093000
DTEND;TZID=Europe/London:20251109T103000
DTSTAMP:20260420T073016Z
UID:12283622025-11-09 09:30:00+00:00achurchnearyou
CATEGORIES:
DESCRIPTION:This is a monthly  Non-Eucharistic service\, to which all are 
 welcome
LOCATION:Christ the King
URL:https://www.achurchnearyou.com/church/252/service-and-events/events/12
 28362/
END:VEVENT
BEGIN:VEVENT
SUMMARY:Service of the Word.
DTSTART;TZID=Europe/London:20251019T093000
DTEND;TZID=Europe/London:20251019T103000
DTSTAMP:20260420T073016Z
UID:12283622025-10-19 09:30:00+01:00achurchnearyou
CATEGORIES:
DESCRIPTION:This is a monthly  Non-Eucharistic service\, to which all are 
 welcome
LOCATION:Christ the King
URL:https://www.achurchnearyou.com/church/252/service-and-events/events/12
 28362/
END:VEVENT
END:VCALENDAR
