BEGIN:VCALENDAR
VERSION:2.0
PRODID:-//achurchnearyou.com//eventfeed//EN
CALSCALE:GREGORIAN
METHOD:PUBLISH
X-WR-TIMEZONE:UTC
BEGIN:VEVENT
SUMMARY:Carols round the bonfire
DTSTART:20251214T170000Z
DTEND:20251214T180000Z
DTSTAMP:20260421T225338Z
UID:12574832025-12-14 17:00:00+00:00achurchnearyou
CATEGORIES:
DESCRIPTION:Come and experience the joy of singing carols together round t
 he bonfire as we look forward to the celebration of our Saviour's birth.
GEO:-4.703627;50.609349
LOCATION:Lanteglos: St Julitta
URL:https://www.achurchnearyou.com/church/2532/service-and-events/events/1
 257483/
END:VEVENT
END:VCALENDAR
