BEGIN:VCALENDAR
VERSION:2.0
PRODID:-//achurchnearyou.com//eventfeed//EN
CALSCALE:GREGORIAN
METHOD:PUBLISH
X-WR-TIMEZONE:UTC
BEGIN:VEVENT
SUMMARY:Ash Wednesday Holy Communion
DTSTART:20260218T100000Z
DTEND:20260218T110000Z
DTSTAMP:20260422T213553Z
UID:11630792026-02-18 10:00:00+00:00achurchnearyou
CATEGORIES:
DESCRIPTION:Holy Communion and Imposition of Ashes
GEO:-4.229003;50.403535
LOCATION:St Stephen's-by-Saltash
URL:https://www.achurchnearyou.com/church/2564/service-and-events/events/1
 163079/
END:VEVENT
END:VCALENDAR
