BEGIN:VCALENDAR
VERSION:2.0
PRODID:-//achurchnearyou.com//eventfeed//EN
CALSCALE:GREGORIAN
METHOD:PUBLISH
X-WR-TIMEZONE:UTC
BEGIN:VEVENT
SUMMARY:Holy Communion
DTSTART:20250202T100000Z
DTEND:20250202T110000Z
DTSTAMP:20260421T223043Z
UID:11282982025-02-02 10:00:00+00:00achurchnearyou
CATEGORIES:
DESCRIPTION:Holy Communion followed by refreshments
LOCATION:Menheniot: St Lalluwy & St Antoninus
URL:https://www.achurchnearyou.com/church/2578/service-and-events/events/1
 128298/
END:VEVENT
END:VCALENDAR
