BEGIN:VCALENDAR
VERSION:2.0
PRODID:-//achurchnearyou.com//eventfeed//EN
CALSCALE:GREGORIAN
METHOD:PUBLISH
X-WR-TIMEZONE:UTC
BEGIN:VEVENT
SUMMARY:Cream Tea
DTSTART:20250727T130000Z
DTEND:20250727T150000Z
DTSTAMP:20260422T120045Z
UID:12132442025-07-27 13:00:00+00:00achurchnearyou
CATEGORIES:
DESCRIPTION:Back by popular demand on Sunday afternoon\, delicious Cream T
 eas in Church. Homemade scones and cakes tea and coffee 2pm to 4pm
GEO:-4.384264;50.479789
LOCATION:St Ive Church
URL:https://www.achurchnearyou.com/church/2582/service-and-events/events/1
 213244/
END:VEVENT
END:VCALENDAR
