BEGIN:VCALENDAR
VERSION:2.0
PRODID:-//achurchnearyou.com//eventfeed//EN
CALSCALE:GREGORIAN
METHOD:PUBLISH
X-WR-TIMEZONE:UTC
BEGIN:VEVENT
SUMMARY:Mass Male Voice Choirs
DTSTART:20251011T180000Z
DTEND:20251011T203000Z
DTSTAMP:20260422T082011Z
UID:12305822025-10-11 18:00:00+00:00achurchnearyou
CATEGORIES:
DESCRIPTION:3 Choirs\, 60plus voices. Pasty Supper\, Bar\, Raffle\nEntry b
 y Donation
GEO:-4.384264;50.479789
LOCATION:St Ive Church
URL:https://www.achurchnearyou.com/church/2582/service-and-events/events/1
 230582/
END:VEVENT
END:VCALENDAR
