BEGIN:VCALENDAR
VERSION:2.0
PRODID:-//achurchnearyou.com//eventfeed//EN
CALSCALE:GREGORIAN
METHOD:PUBLISH
X-WR-TIMEZONE:UTC
BEGIN:VEVENT
SUMMARY:Will Keating & True Foxes
DTSTART:20260228T190000Z
DTEND:20260228T210000Z
DTSTAMP:20260422T001547Z
UID:12828742026-02-28 19:00:00+00:00achurchnearyou
CATEGORIES:
DESCRIPTION:We are delighted to be part of their Winter Tour. A celebratio
 n of Cornish Folk and soulful Americana. Expect heartful songs\, rich harm
 onies\, a perfect mid-winter remedy to soothe the soul and warm the heart.
  All in an atmospheric 700 year old Cornish Church. \nTickets £12 on door
 . By use of link  on attached advertisement or contact 07711453380
GEO:-4.384264;50.479789
LOCATION:St Ive Church
URL:https://www.achurchnearyou.com/church/2582/service-and-events/events/1
 282874/
END:VEVENT
END:VCALENDAR
