BEGIN:VCALENDAR
VERSION:2.0
PRODID:-//achurchnearyou.com//eventfeed//EN
CALSCALE:GREGORIAN
METHOD:PUBLISH
X-WR-TIMEZONE:UTC
BEGIN:VEVENT
SUMMARY:Mothering Sunday Holy Communion
DTSTART:20260315T111500Z
DTEND:20260315T121500Z
DTSTAMP:20260421T223044Z
UID:13050432026-03-15 11:15:00+00:00achurchnearyou
CATEGORIES:
DESCRIPTION:Holy Communion followed by refreshments
GEO:-4.384264;50.479789
LOCATION:St Ive Church
URL:https://www.achurchnearyou.com/church/2582/service-and-events/events/1
 305043/
END:VEVENT
END:VCALENDAR
