BEGIN:VCALENDAR
VERSION:2.0
PRODID:-//achurchnearyou.com//eventfeed//EN
CALSCALE:GREGORIAN
METHOD:PUBLISH
X-WR-TIMEZONE:UTC
BEGIN:VEVENT
SUMMARY:Holy Communion with Baptism
DTSTART:20250330T093000Z
DTEND:20250330T103000Z
DTSTAMP:20260422T105906Z
UID:11752262025-03-30 09:30:00+00:00achurchnearyou
CATEGORIES:
DESCRIPTION:A service of Holy Communion including a Baptism at St Giles\, 
 Cromwell.
GEO:-0.806323;53.144993
LOCATION:Cromwell: St Giles
URL:https://www.achurchnearyou.com/church/2591/service-and-events/events/1
 175226/
END:VEVENT
END:VCALENDAR
