BEGIN:VCALENDAR
VERSION:2.0
PRODID:-//achurchnearyou.com//eventfeed//EN
CALSCALE:GREGORIAN
METHOD:PUBLISH
X-WR-TIMEZONE:UTC
BEGIN:VEVENT
SUMMARY:Compline
DTSTART;TZID=Europe/London:20260401T193000
DTEND;TZID=Europe/London:20260401T203000
DTSTAMP:20260421T102457Z
UID:12872571775068200.0achurchnearyou
CATEGORIES:
DESCRIPTION:A service of Compline during Holy Week
LOCATION:Carlton on Trent:  St Mary the Virgin
URL:https://www.achurchnearyou.com/church/2591/service-and-events/events/1
 287257/
END:VEVENT
BEGIN:VEVENT
SUMMARY:Compline
DTSTART;TZID=Europe/London:20260402T193000
DTEND;TZID=Europe/London:20260402T203000
DTSTAMP:20260421T102457Z
UID:12872631775154600.0achurchnearyou
CATEGORIES:
DESCRIPTION:A service of Compline during Holy Week
LOCATION:Ossington: Holy Rood
URL:https://www.achurchnearyou.com/church/2591/service-and-events/events/1
 287263/
END:VEVENT
BEGIN:VEVENT
SUMMARY:An Hour At The Cross
DTSTART;TZID=Europe/London:20260403T093000
DTEND;TZID=Europe/London:20260403T103000
DTSTAMP:20260421T102457Z
UID:12872751775205000.0achurchnearyou
CATEGORIES:
DESCRIPTION:Come and spend an hour at the cross with Revd David Lewis.
LOCATION:Norwell:  St Laurence
URL:https://www.achurchnearyou.com/church/2591/service-and-events/events/1
 287275/
END:VEVENT
BEGIN:VEVENT
SUMMARY:An Hour At The Cross
DTSTART;TZID=Europe/London:20260403T110000
DTEND;TZID=Europe/London:20260403T120000
DTSTAMP:20260421T102457Z
UID:12872811775210400.0achurchnearyou
CATEGORIES:
DESCRIPTION:Come and spend an hour at the cross with Revd David Lewis.
LOCATION:Ossington: Holy Rood
URL:https://www.achurchnearyou.com/church/2591/service-and-events/events/1
 287281/
END:VEVENT
BEGIN:VEVENT
SUMMARY:An Hour At The Cross
DTSTART;TZID=Europe/London:20260403T130000
DTEND;TZID=Europe/London:20260403T140000
DTSTAMP:20260421T102457Z
UID:12872871775217600.0achurchnearyou
CATEGORIES:
DESCRIPTION:Come and spend an hour at the cross with Revd David Lewis.
LOCATION:Caunton:  St Andrew
URL:https://www.achurchnearyou.com/church/2591/service-and-events/events/1
 287287/
END:VEVENT
BEGIN:VEVENT
SUMMARY:An Hour At The Cross
DTSTART;TZID=Europe/London:20260403T143000
DTEND;TZID=Europe/London:20260403T153000
DTSTAMP:20260421T102457Z
UID:12872931775223000.0achurchnearyou
CATEGORIES:
DESCRIPTION:Come and spend an hour at the cross with Revd David Lewis.
LOCATION:Carlton on Trent:  St Mary the Virgin
URL:https://www.achurchnearyou.com/church/2591/service-and-events/events/1
 287293/
END:VEVENT
BEGIN:VEVENT
SUMMARY:An Hour At The Cross
DTSTART;TZID=Europe/London:20260403T160000
DTEND;TZID=Europe/London:20260403T170000
DTSTAMP:20260421T102457Z
UID:12872991775228400.0achurchnearyou
CATEGORIES:
DESCRIPTION:Come and spend an hour at the cross with Revd David Lewis.
LOCATION:Sutton on Trent:  All Saints
URL:https://www.achurchnearyou.com/church/2591/service-and-events/events/1
 287299/
END:VEVENT
BEGIN:VEVENT
SUMMARY:Compline
DTSTART;TZID=Europe/London:20260403T193000
DTEND;TZID=Europe/London:20260403T203000
DTSTAMP:20260421T102457Z
UID:12872691775241000.0achurchnearyou
CATEGORIES:
DESCRIPTION:A service of Compline during Holy Week\, including An Hour At 
 The Cross
GEO:-0.806323;53.144993
LOCATION:Cromwell: St Giles
URL:https://www.achurchnearyou.com/church/2591/service-and-events/events/1
 287269/
END:VEVENT
BEGIN:VEVENT
SUMMARY:Easter Sunday Service
DTSTART;TZID=Europe/London:20260405T060000
DTEND;TZID=Europe/London:20260405T070000
DTSTAMP:20260421T102457Z
UID:12873061775365200.0achurchnearyou
CATEGORIES:
DESCRIPTION:A service of Holy Communion on Easter Sunday
LOCATION:Caunton:  St Andrew
URL:https://www.achurchnearyou.com/church/2591/service-and-events/events/1
 287306/
END:VEVENT
BEGIN:VEVENT
SUMMARY:Easter Sunday Service
DTSTART;TZID=Europe/London:20260405T090000
DTEND;TZID=Europe/London:20260405T100000
DTSTAMP:20260421T102457Z
UID:12873121775376000.0achurchnearyou
CATEGORIES:
DESCRIPTION:A service of Holy Communion on Easter Sunday
LOCATION:Norwell:  St Laurence
URL:https://www.achurchnearyou.com/church/2591/service-and-events/events/1
 287312/
END:VEVENT
BEGIN:VEVENT
SUMMARY:Easter Sunday Service
DTSTART;TZID=Europe/London:20260405T110000
DTEND;TZID=Europe/London:20260405T120000
DTSTAMP:20260421T102457Z
UID:12873181775383200.0achurchnearyou
CATEGORIES:
DESCRIPTION:A service of Holy Communion on Easter Sunday
LOCATION:Sutton on Trent:  All Saints
URL:https://www.achurchnearyou.com/church/2591/service-and-events/events/1
 287318/
END:VEVENT
BEGIN:VEVENT
SUMMARY:Easter Sunday Service
DTSTART;TZID=Europe/London:20260405T193000
DTEND;TZID=Europe/London:20260405T203000
DTSTAMP:20260421T102458Z
UID:12873241775413800.0achurchnearyou
CATEGORIES:
DESCRIPTION:A service of Holy Communion on Easter Sunday
LOCATION:Ossington: Holy Rood
URL:https://www.achurchnearyou.com/church/2591/service-and-events/events/1
 287324/
END:VEVENT
BEGIN:VEVENT
SUMMARY:Holy Communion
DTSTART;TZID=Europe/London:20260419T090000
DTEND;TZID=Europe/London:20260419T100000
DTSTAMP:20260421T102458Z
UID:12870851776585600.0achurchnearyou
CATEGORIES:
DESCRIPTION:A regular service of Holy Communion at St Giles Cromwell
GEO:-0.806323;53.144993
LOCATION:Cromwell: St Giles
URL:https://www.achurchnearyou.com/church/2591/service-and-events/events/1
 287085/
END:VEVENT
BEGIN:VEVENT
SUMMARY:Holy Communion
DTSTART;TZID=Europe/London:20260517T090000
DTEND;TZID=Europe/London:20260517T100000
DTSTAMP:20260421T102458Z
UID:12870851779004800.0achurchnearyou
CATEGORIES:
DESCRIPTION:A regular service of Holy Communion at St Giles Cromwell
GEO:-0.806323;53.144993
LOCATION:Cromwell: St Giles
URL:https://www.achurchnearyou.com/church/2591/service-and-events/events/1
 287085/
END:VEVENT
BEGIN:VEVENT
SUMMARY:Holy Communion
DTSTART;TZID=Europe/London:20260621T090000
DTEND;TZID=Europe/London:20260621T100000
DTSTAMP:20260421T102458Z
UID:12870851782028800.0achurchnearyou
CATEGORIES:
DESCRIPTION:A regular service of Holy Communion at St Giles Cromwell
GEO:-0.806323;53.144993
LOCATION:Cromwell: St Giles
URL:https://www.achurchnearyou.com/church/2591/service-and-events/events/1
 287085/
END:VEVENT
BEGIN:VEVENT
SUMMARY:Holy Communion
DTSTART;TZID=Europe/London:20260719T090000
DTEND;TZID=Europe/London:20260719T100000
DTSTAMP:20260421T102458Z
UID:12870851784448000.0achurchnearyou
CATEGORIES:
DESCRIPTION:A regular service of Holy Communion at St Giles Cromwell
GEO:-0.806323;53.144993
LOCATION:Cromwell: St Giles
URL:https://www.achurchnearyou.com/church/2591/service-and-events/events/1
 287085/
END:VEVENT
BEGIN:VEVENT
SUMMARY:Holy Communion
DTSTART;TZID=Europe/London:20260816T090000
DTEND;TZID=Europe/London:20260816T100000
DTSTAMP:20260421T102458Z
UID:12870851786867200.0achurchnearyou
CATEGORIES:
DESCRIPTION:A regular service of Holy Communion at St Giles Cromwell
GEO:-0.806323;53.144993
LOCATION:Cromwell: St Giles
URL:https://www.achurchnearyou.com/church/2591/service-and-events/events/1
 287085/
END:VEVENT
BEGIN:VEVENT
SUMMARY:Holy Communion
DTSTART;TZID=Europe/London:20260920T090000
DTEND;TZID=Europe/London:20260920T100000
DTSTAMP:20260421T102458Z
UID:12870851789891200.0achurchnearyou
CATEGORIES:
DESCRIPTION:A regular service of Holy Communion at St Giles Cromwell
GEO:-0.806323;53.144993
LOCATION:Cromwell: St Giles
URL:https://www.achurchnearyou.com/church/2591/service-and-events/events/1
 287085/
END:VEVENT
END:VCALENDAR
