BEGIN:VCALENDAR
VERSION:2.0
PRODID:-//achurchnearyou.com//eventfeed//EN
CALSCALE:GREGORIAN
METHOD:PUBLISH
X-WR-TIMEZONE:UTC
BEGIN:VEVENT
SUMMARY:Remembrance Sunday service
DTSTART:20251109T103000Z
DTEND:20251109T113000Z
DTSTAMP:20260421T133747Z
UID:11060092025-11-09 10:30:00+00:00achurchnearyou
CATEGORIES:
DESCRIPTION:A service of remembrance which will include the two minutes si
 lence. The music will be provided by the Taverham Band.\nThe service will 
 include thoughts and prayers for all conflict around the world\n\nAll welc
 ome
LOCATION:Taverham: St Edmund's
URL:https://www.achurchnearyou.com/church/2640/service-and-events/events/1
 106009/
END:VEVENT
END:VCALENDAR
