BEGIN:VCALENDAR
VERSION:2.0
PRODID:-//achurchnearyou.com//eventfeed//EN
CALSCALE:GREGORIAN
METHOD:PUBLISH
X-WR-TIMEZONE:UTC
BEGIN:VEVENT
SUMMARY:Ash Wednesday - morning service
DTSTART:20260218T103000Z
DTEND:20260218T111500Z
DTSTAMP:20260421T075929Z
UID:6376452026-02-18 10:30:00+00:00achurchnearyou
CATEGORIES:
DESCRIPTION:A friendly and relaxed service of Holy Communion  with the imp
 osition of Ashes at the beginning of Lent.\nThis service will be followed 
 by refreshments. \nEveryone welcome\, and please stay for as long as you w
 ould like to!
GEO:1.194933;52.679251
LOCATION:Taverham: St Edmund's
URL:https://www.achurchnearyou.com/church/2640/service-and-events/events/6
 37645/
END:VEVENT
END:VCALENDAR
