BEGIN:VCALENDAR
VERSION:2.0
PRODID:-//achurchnearyou.com//eventfeed//EN
CALSCALE:GREGORIAN
METHOD:PUBLISH
X-WR-TIMEZONE:UTC
BEGIN:VEVENT
SUMMARY:St Edmund's 2026 May Fair
DTSTART:20260504T100000Z
DTEND:20260504T150000Z
DTSTAMP:20260421T000310Z
UID:8126842026-05-04 10:00:00+00:00achurchnearyou
CATEGORIES:
DESCRIPTION:We will have all our usual stalls: cakes\, hot and cold drinks
 \, BBQ food\, Beer Tent\,  crafts \, Bric-a-brac\, toys\, Preloved2Reloved
  clothing\, bottle tombola and raffle.\n\nThere will also be competitions\
 , games  and Live Music.\n\nDonated  items for the Fair can be left in chu
 rch.\n\nThere is a sign up sheet at the back of church if you are able to 
 help on a stall on the day or with setting up or clearing up at the end.\n
 \nall welcome\n\nPlease book the date and\, if possible\, offer to help fo
 r an hour – or more! \nHelp will also be needed for the set-up on 3rd Ma
 y.
GEO:1.194933;52.679251
LOCATION:Taverham: St Edmund's
URL:https://www.achurchnearyou.com/church/2640/service-and-events/events/8
 12684/
END:VEVENT
END:VCALENDAR
