BEGIN:VCALENDAR
VERSION:2.0
PRODID:-//achurchnearyou.com//eventfeed//EN
CALSCALE:GREGORIAN
METHOD:PUBLISH
X-WR-TIMEZONE:UTC
BEGIN:VEVENT
SUMMARY:Palm Sunday Mustard Tree
DTSTART:20260329T083000Z
DTEND:20260329T093000Z
DTSTAMP:20260421T034717Z
UID:8260372026-03-29 08:30:00+00:00achurchnearyou
CATEGORIES:
DESCRIPTION:An informal worship to mark Jesus' entry into Jerusalem and th
 e beginning of Holy Week. This service is particularly for families and ch
 ildren and those looking for more informality.\n\nThis service will includ
 e a combination of  bible reading(s)\, a message/thought\, songs and praye
 rs. \n\nEveryone is welcome
LOCATION:Taverham: St Edmund's
URL:https://www.achurchnearyou.com/church/2640/service-and-events/events/8
 26037/
END:VEVENT
END:VCALENDAR
