BEGIN:VCALENDAR
VERSION:2.0
PRODID:-//achurchnearyou.com//eventfeed//EN
CALSCALE:GREGORIAN
METHOD:PUBLISH
X-WR-TIMEZONE:UTC
BEGIN:VEVENT
SUMMARY:Mustard Tree Nativity
DTSTART:20251221T093000Z
DTEND:20251221T101500Z
DTSTAMP:20260421T115315Z
UID:8578862025-12-21 09:30:00+00:00achurchnearyou
CATEGORIES:
DESCRIPTION:Our fun\, interactive telling of the Nativity with costumes pa
 rticularly for families and children and those looking for more informalit
 y.\n\nThis service will include a combination of  bible reading(s)\, a mes
 sage/thought\, songs and prayers. \n\nEveryone is welcome
GEO:1.194933;52.679251
LOCATION:Taverham: St Edmund's
URL:https://www.achurchnearyou.com/church/2640/service-and-events/events/8
 57886/
END:VEVENT
END:VCALENDAR
