BEGIN:VCALENDAR
VERSION:2.0
PRODID:-//achurchnearyou.com//eventfeed//EN
CALSCALE:GREGORIAN
METHOD:PUBLISH
X-WR-TIMEZONE:UTC
BEGIN:VEVENT
SUMMARY:Shoebox packing
DTSTART:20251029T140000Z
DTEND:20251029T160000Z
DTSTAMP:20260421T133836Z
UID:8605692025-10-29 14:00:00+00:00achurchnearyou
CATEGORIES:
DESCRIPTION:We will meet in church to make shoeboxes together. \nIf you ca
 n\, please bring boxes\, wrapping paper\, and items to fill boxes or simpl
 y join us to wrap and fill boxes.\n\nWe will be collecting Christmas Shoeb
 oxes as part of the Blythswood appeal.\nShoeboxes are sent to people of di
 fferent ages in the poorest parts of Eastern Europe. This year shoeboxes w
 ill be delivered to vulnerable people in Ukraine\, Albania\, Bulgaria\, Hu
 ngary\, Kosovo\, Moldova\, Romania and Serbia. \n\nThe boxes are filled wi
 th a variety of items to bring warmth and cheer to people who have very li
 ttle. The shoe boxes have a wonderful impact on the lives of their recipie
 nts. They help to assure these people that they are remembered\, prayed fo
 r and loved by the Lord.\n\nOur prayer for those receiving the shoeboxes i
 s that they know God loves them\, just as he loves each of us so deeply.\n
 \nAll welcome.
GEO:1.194933;52.679251
LOCATION:Taverham: St Edmund's
URL:https://www.achurchnearyou.com/church/2640/service-and-events/events/8
 60569/
END:VEVENT
END:VCALENDAR
