BEGIN:VCALENDAR
VERSION:2.0
PRODID:-//achurchnearyou.com//eventfeed//EN
CALSCALE:GREGORIAN
METHOD:PUBLISH
X-WR-TIMEZONE:UTC
BEGIN:VEVENT
SUMMARY:Retirement Service for The Revd Canon Nigel Marns
DTSTART:20250706T090000Z
DTEND:20250706T100000Z
DTSTAMP:20260426T025405Z
UID:12086802025-07-06 09:00:00+00:00achurchnearyou
CATEGORIES:
DESCRIPTION:This service will include a farewell to Canon Nigel Marns\, Re
 ctor of Mount's Bay United Benefice since 2009\, and Mrs Penny Marns.  It 
 will be followed by refreshments in the Murley Hall.
LOCATION:Ludgvan: St Paul
URL:https://www.achurchnearyou.com/church/2684/service-and-events/events/1
 208680/
END:VEVENT
END:VCALENDAR
