BEGIN:VCALENDAR
VERSION:2.0
PRODID:-//achurchnearyou.com//eventfeed//EN
CALSCALE:GREGORIAN
METHOD:PUBLISH
X-WR-TIMEZONE:UTC
BEGIN:VEVENT
SUMMARY:Carols and Communion
DTSTART:20251228T110000Z
DTEND:20251228T123000Z
DTSTAMP:20260425T194741Z
UID:12534532025-12-28 11:00:00+00:00achurchnearyou
CATEGORIES:
DESCRIPTION:Join us in the Benefice service of Carols and Communion\, wher
 e we come together to celebrate the joy of Jesus’ birth.
LOCATION:Perranuthnoe: St Piran & St Michael
URL:https://www.achurchnearyou.com/church/2684/service-and-events/events/1
 253453/
END:VEVENT
END:VCALENDAR
