BEGIN:VCALENDAR
VERSION:2.0
PRODID:-//achurchnearyou.com//eventfeed//EN
CALSCALE:GREGORIAN
METHOD:PUBLISH
X-WR-TIMEZONE:UTC
BEGIN:VEVENT
SUMMARY:Morning worship
DTSTART;TZID=Europe/London:20260405T103000
DTEND;TZID=Europe/London:20260405T114500
DTSTAMP:20260421T190210Z
UID:11204821775381400.0achurchnearyou
CATEGORIES:
DESCRIPTION:informal teaching\, song and prayer - everyone welcome. Commun
 ion is every other Sunday
GEO:-0.636097;51.531985
LOCATION:St George's Church
URL:https://www.stgeorgesbritwell.org/
END:VEVENT
BEGIN:VEVENT
SUMMARY:Morning worship
DTSTART;TZID=Europe/London:20260412T103000
DTEND;TZID=Europe/London:20260412T114500
DTSTAMP:20260421T190210Z
UID:11204821775986200.0achurchnearyou
CATEGORIES:
DESCRIPTION:informal teaching\, song and prayer - everyone welcome. Commun
 ion is every other Sunday
GEO:-0.636097;51.531985
LOCATION:St George's Church
URL:https://www.stgeorgesbritwell.org/
END:VEVENT
BEGIN:VEVENT
SUMMARY:Morning worship
DTSTART;TZID=Europe/London:20260419T103000
DTEND;TZID=Europe/London:20260419T114500
DTSTAMP:20260421T190210Z
UID:11204821776591000.0achurchnearyou
CATEGORIES:
DESCRIPTION:informal teaching\, song and prayer - everyone welcome. Commun
 ion is every other Sunday
GEO:-0.636097;51.531985
LOCATION:St George's Church
URL:https://www.stgeorgesbritwell.org/
END:VEVENT
BEGIN:VEVENT
SUMMARY:Morning worship
DTSTART;TZID=Europe/London:20260426T103000
DTEND;TZID=Europe/London:20260426T114500
DTSTAMP:20260421T190210Z
UID:11204821777195800.0achurchnearyou
CATEGORIES:
DESCRIPTION:informal teaching\, song and prayer - everyone welcome. Commun
 ion is every other Sunday
GEO:-0.636097;51.531985
LOCATION:St George's Church
URL:https://www.stgeorgesbritwell.org/
END:VEVENT
BEGIN:VEVENT
SUMMARY:Morning worship
DTSTART;TZID=Europe/London:20260503T103000
DTEND;TZID=Europe/London:20260503T114500
DTSTAMP:20260421T190210Z
UID:11204821777800600.0achurchnearyou
CATEGORIES:
DESCRIPTION:informal teaching\, song and prayer - everyone welcome. Commun
 ion is every other Sunday
GEO:-0.636097;51.531985
LOCATION:St George's Church
URL:https://www.stgeorgesbritwell.org/
END:VEVENT
BEGIN:VEVENT
SUMMARY:Morning worship
DTSTART;TZID=Europe/London:20260510T103000
DTEND;TZID=Europe/London:20260510T114500
DTSTAMP:20260421T190210Z
UID:11204821778405400.0achurchnearyou
CATEGORIES:
DESCRIPTION:informal teaching\, song and prayer - everyone welcome. Commun
 ion is every other Sunday
GEO:-0.636097;51.531985
LOCATION:St George's Church
URL:https://www.stgeorgesbritwell.org/
END:VEVENT
BEGIN:VEVENT
SUMMARY:Morning worship
DTSTART;TZID=Europe/London:20260517T103000
DTEND;TZID=Europe/London:20260517T114500
DTSTAMP:20260421T190210Z
UID:11204821779010200.0achurchnearyou
CATEGORIES:
DESCRIPTION:informal teaching\, song and prayer - everyone welcome. Commun
 ion is every other Sunday
GEO:-0.636097;51.531985
LOCATION:St George's Church
URL:https://www.stgeorgesbritwell.org/
END:VEVENT
BEGIN:VEVENT
SUMMARY:Morning worship
DTSTART;TZID=Europe/London:20260524T103000
DTEND;TZID=Europe/London:20260524T114500
DTSTAMP:20260421T190210Z
UID:11204821779615000.0achurchnearyou
CATEGORIES:
DESCRIPTION:informal teaching\, song and prayer - everyone welcome. Commun
 ion is every other Sunday
GEO:-0.636097;51.531985
LOCATION:St George's Church
URL:https://www.stgeorgesbritwell.org/
END:VEVENT
BEGIN:VEVENT
SUMMARY:Morning worship
DTSTART;TZID=Europe/London:20260531T103000
DTEND;TZID=Europe/London:20260531T114500
DTSTAMP:20260421T190210Z
UID:11204821780219800.0achurchnearyou
CATEGORIES:
DESCRIPTION:informal teaching\, song and prayer - everyone welcome. Commun
 ion is every other Sunday
GEO:-0.636097;51.531985
LOCATION:St George's Church
URL:https://www.stgeorgesbritwell.org/
END:VEVENT
END:VCALENDAR
