BEGIN:VCALENDAR
VERSION:2.0
PRODID:-//achurchnearyou.com//eventfeed//EN
CALSCALE:GREGORIAN
METHOD:PUBLISH
X-WR-TIMEZONE:UTC
BEGIN:VEVENT
SUMMARY:Compline
DTSTART;TZID=Europe/London:20260401T190000
DTEND;TZID=Europe/London:20260401T200000
DTSTAMP:20260424T215104Z
UID:13151761775066400.0achurchnearyou
CATEGORIES:
DESCRIPTION:During Holy Week
LOCATION:Annunciation to the Blessed Virgin Mary
URL:https://www.achurchnearyou.com/church/2748/service-and-events/events/1
 315176/
END:VEVENT
BEGIN:VEVENT
SUMMARY:Choir Practice
DTSTART;TZID=Europe/London:20260401T193000
DTEND;TZID=Europe/London:20260401T210000
DTSTAMP:20260424T215104Z
UID:12202631775068200.0achurchnearyou
CATEGORIES:
DESCRIPTION:All you need to join us is a passion for singing!  We’re a
  friendly group and you don’t even need to audition\, just come along an
 d join in - we sing both religious and secular music of all styles!\nChoir
  members come from throughout the benefice and even from beyond!\nIf you w
 ould like to join please contact us to confirm the date\, time and place f
 or our next rehearsal please email:\nPhilip Boxall: philipb013@outlook.com
  \nClive Smith: clive.r.smith@icloud.com
URL:https://www.achurchnearyou.com/church/5993/service-and-events/events/1
 220263/
END:VEVENT
BEGIN:VEVENT
SUMMARY:Maundy Thursday
DTSTART;TZID=Europe/London:20260402T190000
DTEND;TZID=Europe/London:20260402T200000
DTSTAMP:20260424T215104Z
UID:13152071775152800.0achurchnearyou
CATEGORIES:
DESCRIPTION:Service
LOCATION:St Olave's Parish Church\, Fritwell
URL:https://www.achurchnearyou.com/church/2748/service-and-events/events/1
 315207/
END:VEVENT
BEGIN:VEVENT
SUMMARY:Good Friday
DTSTART;TZID=Europe/London:20260403T140000
DTEND;TZID=Europe/London:20260403T150000
DTSTAMP:20260424T215104Z
UID:13152341775221200.0achurchnearyou
CATEGORIES:
DESCRIPTION:The Last Hour
LOCATION:St Mary's Parish Church\, Upper Heyford
URL:https://www.achurchnearyou.com/church/2748/service-and-events/events/1
 315234/
END:VEVENT
BEGIN:VEVENT
SUMMARY:Choir Practice
DTSTART;TZID=Europe/London:20260408T193000
DTEND;TZID=Europe/London:20260408T210000
DTSTAMP:20260424T215104Z
UID:12202631775673000.0achurchnearyou
CATEGORIES:
DESCRIPTION:All you need to join us is a passion for singing!  We’re a
  friendly group and you don’t even need to audition\, just come along an
 d join in - we sing both religious and secular music of all styles!\nChoir
  members come from throughout the benefice and even from beyond!\nIf you w
 ould like to join please contact us to confirm the date\, time and place f
 or our next rehearsal please email:\nPhilip Boxall: philipb013@outlook.com
  \nClive Smith: clive.r.smith@icloud.com
URL:https://www.achurchnearyou.com/church/5993/service-and-events/events/1
 220263/
END:VEVENT
BEGIN:VEVENT
SUMMARY:Choir Practice
DTSTART;TZID=Europe/London:20260415T193000
DTEND;TZID=Europe/London:20260415T210000
DTSTAMP:20260424T215104Z
UID:12202631776277800.0achurchnearyou
CATEGORIES:
DESCRIPTION:All you need to join us is a passion for singing!  We’re a
  friendly group and you don’t even need to audition\, just come along an
 d join in - we sing both religious and secular music of all styles!\nChoir
  members come from throughout the benefice and even from beyond!\nIf you w
 ould like to join please contact us to confirm the date\, time and place f
 or our next rehearsal please email:\nPhilip Boxall: philipb013@outlook.com
  \nClive Smith: clive.r.smith@icloud.com
URL:https://www.achurchnearyou.com/church/5993/service-and-events/events/1
 220263/
END:VEVENT
BEGIN:VEVENT
SUMMARY:Licensing of Revd Robert Gilbert
DTSTART;TZID=Europe/London:20260416T193000
DTEND;TZID=Europe/London:20260416T203000
DTSTAMP:20260424T215104Z
UID:12833651776364200.0achurchnearyou
CATEGORIES:
DESCRIPTION:You are all welcome as Rob is licensed by the Bishop of Dorche
 ster as the Team Rector for the Cherwell Valley Benefice
LOCATION:Heyford Park Chapel
URL:https://www.achurchnearyou.com/church/2748/service-and-events/events/1
 283365/
END:VEVENT
BEGIN:VEVENT
SUMMARY:Choir Practice
DTSTART;TZID=Europe/London:20260422T193000
DTEND;TZID=Europe/London:20260422T210000
DTSTAMP:20260424T215104Z
UID:12202631776882600.0achurchnearyou
CATEGORIES:
DESCRIPTION:All you need to join us is a passion for singing!  We’re a
  friendly group and you don’t even need to audition\, just come along an
 d join in - we sing both religious and secular music of all styles!\nChoir
  members come from throughout the benefice and even from beyond!\nIf you w
 ould like to join please contact us to confirm the date\, time and place f
 or our next rehearsal please email:\nPhilip Boxall: philipb013@outlook.com
  \nClive Smith: clive.r.smith@icloud.com
URL:https://www.achurchnearyou.com/church/5993/service-and-events/events/1
 220263/
END:VEVENT
BEGIN:VEVENT
SUMMARY:Choir Practice
DTSTART;TZID=Europe/London:20260429T193000
DTEND;TZID=Europe/London:20260429T210000
DTSTAMP:20260424T215104Z
UID:12202631777487400.0achurchnearyou
CATEGORIES:
DESCRIPTION:All you need to join us is a passion for singing!  We’re a
  friendly group and you don’t even need to audition\, just come along an
 d join in - we sing both religious and secular music of all styles!\nChoir
  members come from throughout the benefice and even from beyond!\nIf you w
 ould like to join please contact us to confirm the date\, time and place f
 or our next rehearsal please email:\nPhilip Boxall: philipb013@outlook.com
  \nClive Smith: clive.r.smith@icloud.com
URL:https://www.achurchnearyou.com/church/5993/service-and-events/events/1
 220263/
END:VEVENT
BEGIN:VEVENT
SUMMARY:Choir Practice
DTSTART;TZID=Europe/London:20260506T193000
DTEND;TZID=Europe/London:20260506T210000
DTSTAMP:20260424T215104Z
UID:12202631778092200.0achurchnearyou
CATEGORIES:
DESCRIPTION:All you need to join us is a passion for singing!  We’re a
  friendly group and you don’t even need to audition\, just come along an
 d join in - we sing both religious and secular music of all styles!\nChoir
  members come from throughout the benefice and even from beyond!\nIf you w
 ould like to join please contact us to confirm the date\, time and place f
 or our next rehearsal please email:\nPhilip Boxall: philipb013@outlook.com
  \nClive Smith: clive.r.smith@icloud.com
URL:https://www.achurchnearyou.com/church/5993/service-and-events/events/1
 220263/
END:VEVENT
BEGIN:VEVENT
SUMMARY:Choir Practice
DTSTART;TZID=Europe/London:20260513T193000
DTEND;TZID=Europe/London:20260513T210000
DTSTAMP:20260424T215104Z
UID:12202631778697000.0achurchnearyou
CATEGORIES:
DESCRIPTION:All you need to join us is a passion for singing!  We’re a
  friendly group and you don’t even need to audition\, just come along an
 d join in - we sing both religious and secular music of all styles!\nChoir
  members come from throughout the benefice and even from beyond!\nIf you w
 ould like to join please contact us to confirm the date\, time and place f
 or our next rehearsal please email:\nPhilip Boxall: philipb013@outlook.com
  \nClive Smith: clive.r.smith@icloud.com
URL:https://www.achurchnearyou.com/church/5993/service-and-events/events/1
 220263/
END:VEVENT
BEGIN:VEVENT
SUMMARY:Choir Practice
DTSTART;TZID=Europe/London:20260520T193000
DTEND;TZID=Europe/London:20260520T210000
DTSTAMP:20260424T215104Z
UID:12202631779301800.0achurchnearyou
CATEGORIES:
DESCRIPTION:All you need to join us is a passion for singing!  We’re a
  friendly group and you don’t even need to audition\, just come along an
 d join in - we sing both religious and secular music of all styles!\nChoir
  members come from throughout the benefice and even from beyond!\nIf you w
 ould like to join please contact us to confirm the date\, time and place f
 or our next rehearsal please email:\nPhilip Boxall: philipb013@outlook.com
  \nClive Smith: clive.r.smith@icloud.com
URL:https://www.achurchnearyou.com/church/5993/service-and-events/events/1
 220263/
END:VEVENT
BEGIN:VEVENT
SUMMARY:Choir Practice
DTSTART;TZID=Europe/London:20260527T193000
DTEND;TZID=Europe/London:20260527T210000
DTSTAMP:20260424T215104Z
UID:12202631779906600.0achurchnearyou
CATEGORIES:
DESCRIPTION:All you need to join us is a passion for singing!  We’re a
  friendly group and you don’t even need to audition\, just come along an
 d join in - we sing both religious and secular music of all styles!\nChoir
  members come from throughout the benefice and even from beyond!\nIf you w
 ould like to join please contact us to confirm the date\, time and place f
 or our next rehearsal please email:\nPhilip Boxall: philipb013@outlook.com
  \nClive Smith: clive.r.smith@icloud.com
URL:https://www.achurchnearyou.com/church/5993/service-and-events/events/1
 220263/
END:VEVENT
END:VCALENDAR
