BEGIN:VCALENDAR
VERSION:2.0
PRODID:-//achurchnearyou.com//eventfeed//EN
CALSCALE:GREGORIAN
METHOD:PUBLISH
X-WR-TIMEZONE:UTC
BEGIN:VEVENT
SUMMARY:9am Holy Communion
DTSTART;TZID=Europe/London:20260405T090000
DTEND;TZID=Europe/London:20260405T100000
DTSTAMP:20260419T181301Z
UID:12346791775376000.0achurchnearyou
CATEGORIES:
DESCRIPTION:This is a traditional service\, with hymns on the organ\, and 
 no children's groups. Readings and liturgy are taken from Common Worship a
 nd a sermon is preached.
GEO:-0.852192;51.480002
LOCATION:Ruscombe: St. James the Great
URL:https://www.achurchnearyou.com/church/239/service-and-events/events/12
 34679/
END:VEVENT
BEGIN:VEVENT
SUMMARY:For information about our services in Ruscombe & Twyford please cl
 ick on MORE INFO below
DTSTART;TZID=Europe/London:20260405T090000
DTEND;TZID=Europe/London:20260405T113000
DTSTAMP:20260419T181301Z
UID:10638171775376000.0achurchnearyou
CATEGORIES:
DESCRIPTION:Click link to main website
GEO:-0.866134;51.476402
LOCATION:Ruscombe: St. James the Great\nTwyford: St Mary's
URL:https://thru-christ.org.uk/
END:VEVENT
BEGIN:VEVENT
SUMMARY:For information about our services in Ruscombe & Twyford please cl
 ick on MORE INFO below
DTSTART;TZID=Europe/London:20260412T090000
DTEND;TZID=Europe/London:20260412T113000
DTSTAMP:20260419T181301Z
UID:10638171775980800.0achurchnearyou
CATEGORIES:
DESCRIPTION:Click link to main website
GEO:-0.866134;51.476402
LOCATION:Ruscombe: St. James the Great\nTwyford: St Mary's
URL:https://thru-christ.org.uk/
END:VEVENT
BEGIN:VEVENT
SUMMARY:9am Holy Communion
DTSTART;TZID=Europe/London:20260419T090000
DTEND;TZID=Europe/London:20260419T100000
DTSTAMP:20260419T181301Z
UID:12346791776585600.0achurchnearyou
CATEGORIES:
DESCRIPTION:This is a traditional service\, with hymns on the organ\, and 
 no children's groups. Readings and liturgy are taken from Common Worship a
 nd a sermon is preached.
GEO:-0.852192;51.480002
LOCATION:Ruscombe: St. James the Great
URL:https://www.achurchnearyou.com/church/239/service-and-events/events/12
 34679/
END:VEVENT
BEGIN:VEVENT
SUMMARY:For information about our services in Ruscombe & Twyford please cl
 ick on MORE INFO below
DTSTART;TZID=Europe/London:20260419T090000
DTEND;TZID=Europe/London:20260419T113000
DTSTAMP:20260419T181301Z
UID:10638171776585600.0achurchnearyou
CATEGORIES:
DESCRIPTION:Click link to main website
GEO:-0.866134;51.476402
LOCATION:Ruscombe: St. James the Great\nTwyford: St Mary's
URL:https://thru-christ.org.uk/
END:VEVENT
BEGIN:VEVENT
SUMMARY:Midweek Communion
DTSTART;TZID=Europe/London:20260423T103000
DTEND;TZID=Europe/London:20260423T113000
DTSTAMP:20260419T181301Z
UID:12346811776936600.0achurchnearyou
CATEGORIES:
DESCRIPTION:In January\, February\, March\, April\, May\, June\, July\, Au
 gust\, September\, October\, November. Every Fourth Thursday at 10:30 a.m.
  for 1 hour\nVenue\nSt Mary's Church Centre\nAddress\nSt Mary's Church Cen
 tre\, St Mary's Church Centre\, Station Road\, Twyford (The church centre 
 is behind St Mary's church)\, RG10 9NT\, United Kingdom\nHoly Communion in
  St Mary's Church Centre followed by refreshments and a chance to chat\n\n
 Common Worship Eucharist/Holy Communion Refreshments
LOCATION:Twyford: St Mary's
URL:https://www.achurchnearyou.com/church/239/service-and-events/events/12
 34681/
END:VEVENT
BEGIN:VEVENT
SUMMARY:9am Holy Communion
DTSTART;TZID=Europe/London:20260426T090000
DTEND;TZID=Europe/London:20260426T100000
DTSTAMP:20260419T181301Z
UID:12346791777190400.0achurchnearyou
CATEGORIES:
DESCRIPTION:This is a traditional service\, with hymns on the organ\, and 
 no children's groups. Readings and liturgy are taken from Common Worship a
 nd a sermon is preached.
GEO:-0.852192;51.480002
LOCATION:Ruscombe: St. James the Great
URL:https://www.achurchnearyou.com/church/239/service-and-events/events/12
 34679/
END:VEVENT
BEGIN:VEVENT
SUMMARY:For information about our services in Ruscombe & Twyford please cl
 ick on MORE INFO below
DTSTART;TZID=Europe/London:20260426T090000
DTEND;TZID=Europe/London:20260426T113000
DTSTAMP:20260419T181301Z
UID:10638171777190400.0achurchnearyou
CATEGORIES:
DESCRIPTION:Click link to main website
GEO:-0.866134;51.476402
LOCATION:Ruscombe: St. James the Great\nTwyford: St Mary's
URL:https://thru-christ.org.uk/
END:VEVENT
BEGIN:VEVENT
SUMMARY:9am Holy Communion
DTSTART;TZID=Europe/London:20260503T090000
DTEND;TZID=Europe/London:20260503T100000
DTSTAMP:20260419T181301Z
UID:12346791777795200.0achurchnearyou
CATEGORIES:
DESCRIPTION:This is a traditional service\, with hymns on the organ\, and 
 no children's groups. Readings and liturgy are taken from Common Worship a
 nd a sermon is preached.
GEO:-0.852192;51.480002
LOCATION:Ruscombe: St. James the Great
URL:https://www.achurchnearyou.com/church/239/service-and-events/events/12
 34679/
END:VEVENT
BEGIN:VEVENT
SUMMARY:For information about our services in Ruscombe & Twyford please cl
 ick on MORE INFO below
DTSTART;TZID=Europe/London:20260503T090000
DTEND;TZID=Europe/London:20260503T113000
DTSTAMP:20260419T181301Z
UID:10638171777795200.0achurchnearyou
CATEGORIES:
DESCRIPTION:Click link to main website
GEO:-0.866134;51.476402
LOCATION:Ruscombe: St. James the Great\nTwyford: St Mary's
URL:https://thru-christ.org.uk/
END:VEVENT
BEGIN:VEVENT
SUMMARY:For information about our services in Ruscombe & Twyford please cl
 ick on MORE INFO below
DTSTART;TZID=Europe/London:20260510T090000
DTEND;TZID=Europe/London:20260510T113000
DTSTAMP:20260419T181301Z
UID:10638171778400000.0achurchnearyou
CATEGORIES:
DESCRIPTION:Click link to main website
GEO:-0.866134;51.476402
LOCATION:Ruscombe: St. James the Great\nTwyford: St Mary's
URL:https://thru-christ.org.uk/
END:VEVENT
BEGIN:VEVENT
SUMMARY:9am Holy Communion
DTSTART;TZID=Europe/London:20260517T090000
DTEND;TZID=Europe/London:20260517T100000
DTSTAMP:20260419T181301Z
UID:12346791779004800.0achurchnearyou
CATEGORIES:
DESCRIPTION:This is a traditional service\, with hymns on the organ\, and 
 no children's groups. Readings and liturgy are taken from Common Worship a
 nd a sermon is preached.
GEO:-0.852192;51.480002
LOCATION:Ruscombe: St. James the Great
URL:https://www.achurchnearyou.com/church/239/service-and-events/events/12
 34679/
END:VEVENT
BEGIN:VEVENT
SUMMARY:For information about our services in Ruscombe & Twyford please cl
 ick on MORE INFO below
DTSTART;TZID=Europe/London:20260517T090000
DTEND;TZID=Europe/London:20260517T113000
DTSTAMP:20260419T181301Z
UID:10638171779004800.0achurchnearyou
CATEGORIES:
DESCRIPTION:Click link to main website
GEO:-0.866134;51.476402
LOCATION:Ruscombe: St. James the Great\nTwyford: St Mary's
URL:https://thru-christ.org.uk/
END:VEVENT
BEGIN:VEVENT
SUMMARY:9am Holy Communion
DTSTART;TZID=Europe/London:20260524T090000
DTEND;TZID=Europe/London:20260524T100000
DTSTAMP:20260419T181301Z
UID:12346791779609600.0achurchnearyou
CATEGORIES:
DESCRIPTION:This is a traditional service\, with hymns on the organ\, and 
 no children's groups. Readings and liturgy are taken from Common Worship a
 nd a sermon is preached.
GEO:-0.852192;51.480002
LOCATION:Ruscombe: St. James the Great
URL:https://www.achurchnearyou.com/church/239/service-and-events/events/12
 34679/
END:VEVENT
BEGIN:VEVENT
SUMMARY:For information about our services in Ruscombe & Twyford please cl
 ick on MORE INFO below
DTSTART;TZID=Europe/London:20260524T090000
DTEND;TZID=Europe/London:20260524T113000
DTSTAMP:20260419T181301Z
UID:10638171779609600.0achurchnearyou
CATEGORIES:
DESCRIPTION:Click link to main website
GEO:-0.866134;51.476402
LOCATION:Ruscombe: St. James the Great\nTwyford: St Mary's
URL:https://thru-christ.org.uk/
END:VEVENT
BEGIN:VEVENT
SUMMARY:Midweek Communion
DTSTART;TZID=Europe/London:20260528T103000
DTEND;TZID=Europe/London:20260528T113000
DTSTAMP:20260419T181301Z
UID:12346811779960600.0achurchnearyou
CATEGORIES:
DESCRIPTION:In January\, February\, March\, April\, May\, June\, July\, Au
 gust\, September\, October\, November. Every Fourth Thursday at 10:30 a.m.
  for 1 hour\nVenue\nSt Mary's Church Centre\nAddress\nSt Mary's Church Cen
 tre\, St Mary's Church Centre\, Station Road\, Twyford (The church centre 
 is behind St Mary's church)\, RG10 9NT\, United Kingdom\nHoly Communion in
  St Mary's Church Centre followed by refreshments and a chance to chat\n\n
 Common Worship Eucharist/Holy Communion Refreshments
LOCATION:Twyford: St Mary's
URL:https://www.achurchnearyou.com/church/239/service-and-events/events/12
 34681/
END:VEVENT
BEGIN:VEVENT
SUMMARY:9am Holy Communion
DTSTART;TZID=Europe/London:20260531T090000
DTEND;TZID=Europe/London:20260531T100000
DTSTAMP:20260419T181301Z
UID:12346791780214400.0achurchnearyou
CATEGORIES:
DESCRIPTION:This is a traditional service\, with hymns on the organ\, and 
 no children's groups. Readings and liturgy are taken from Common Worship a
 nd a sermon is preached.
GEO:-0.852192;51.480002
LOCATION:Ruscombe: St. James the Great
URL:https://www.achurchnearyou.com/church/239/service-and-events/events/12
 34679/
END:VEVENT
BEGIN:VEVENT
SUMMARY:For information about our services in Ruscombe & Twyford please cl
 ick on MORE INFO below
DTSTART;TZID=Europe/London:20260531T090000
DTEND;TZID=Europe/London:20260531T113000
DTSTAMP:20260419T181301Z
UID:10638171780214400.0achurchnearyou
CATEGORIES:
DESCRIPTION:Click link to main website
GEO:-0.866134;51.476402
LOCATION:Ruscombe: St. James the Great\nTwyford: St Mary's
URL:https://thru-christ.org.uk/
END:VEVENT
END:VCALENDAR
