BEGIN:VCALENDAR
VERSION:2.0
PRODID:-//achurchnearyou.com//eventfeed//EN
CALSCALE:GREGORIAN
METHOD:PUBLISH
X-WR-TIMEZONE:UTC
BEGIN:VEVENT
SUMMARY:Sunday Holy Communion
DTSTART;TZID=Europe/London:20250119T100000
DTEND;TZID=Europe/London:20250119T111500
DTSTAMP:20260424T030516Z
UID:11451912025-01-19 10:00:00+00:00achurchnearyou
CATEGORIES:
DESCRIPTION:A Service of Sung Holy Communion takes place at The Good Sheph
 erd  on the 3rd and 4th Sunday of each month.\nThe service is followed by 
 Coffee in the Bishop Gott Memorial Hall
GEO:-4.704079;50.350594
LOCATION:Par: Good Shepherd
URL:https://www.achurchnearyou.com/church/2704/service-and-events/events/1
 145191/
END:VEVENT
BEGIN:VEVENT
SUMMARY:Sunday Holy Communion
DTSTART;TZID=Europe/London:20250126T100000
DTEND;TZID=Europe/London:20250126T111500
DTSTAMP:20260424T030516Z
UID:11451912025-01-26 10:00:00+00:00achurchnearyou
CATEGORIES:
DESCRIPTION:A Service of Sung Holy Communion takes place at The Good Sheph
 erd  on the 3rd and 4th Sunday of each month.\nThe service is followed by 
 Coffee in the Bishop Gott Memorial Hall
GEO:-4.704079;50.350594
LOCATION:Par: Good Shepherd
URL:https://www.achurchnearyou.com/church/2704/service-and-events/events/1
 145191/
END:VEVENT
BEGIN:VEVENT
SUMMARY:Sunday Holy Communion
DTSTART;TZID=Europe/London:20250216T100000
DTEND;TZID=Europe/London:20250216T111500
DTSTAMP:20260424T030516Z
UID:11451912025-02-16 10:00:00+00:00achurchnearyou
CATEGORIES:
DESCRIPTION:A Service of Sung Holy Communion takes place at The Good Sheph
 erd  on the 3rd and 4th Sunday of each month.\nThe service is followed by 
 Coffee in the Bishop Gott Memorial Hall
GEO:-4.704079;50.350594
LOCATION:Par: Good Shepherd
URL:https://www.achurchnearyou.com/church/2704/service-and-events/events/1
 145191/
END:VEVENT
BEGIN:VEVENT
SUMMARY:Sunday Holy Communion
DTSTART;TZID=Europe/London:20250223T100000
DTEND;TZID=Europe/London:20250223T111500
DTSTAMP:20260424T030516Z
UID:11451912025-02-23 10:00:00+00:00achurchnearyou
CATEGORIES:
DESCRIPTION:A Service of Sung Holy Communion takes place at The Good Sheph
 erd  on the 3rd and 4th Sunday of each month.\nThe service is followed by 
 Coffee in the Bishop Gott Memorial Hall
GEO:-4.704079;50.350594
LOCATION:Par: Good Shepherd
URL:https://www.achurchnearyou.com/church/2704/service-and-events/events/1
 145191/
END:VEVENT
BEGIN:VEVENT
SUMMARY:Sunday Holy Communion
DTSTART;TZID=Europe/London:20250316T100000
DTEND;TZID=Europe/London:20250316T111500
DTSTAMP:20260424T030516Z
UID:11451912025-03-16 10:00:00+00:00achurchnearyou
CATEGORIES:
DESCRIPTION:A Service of Sung Holy Communion takes place at The Good Sheph
 erd  on the 3rd and 4th Sunday of each month.\nThe service is followed by 
 Coffee in the Bishop Gott Memorial Hall
GEO:-4.704079;50.350594
LOCATION:Par: Good Shepherd
URL:https://www.achurchnearyou.com/church/2704/service-and-events/events/1
 145191/
END:VEVENT
BEGIN:VEVENT
SUMMARY:Sunday Holy Communion
DTSTART;TZID=Europe/London:20250323T100000
DTEND;TZID=Europe/London:20250323T111500
DTSTAMP:20260424T030516Z
UID:11451912025-03-23 10:00:00+00:00achurchnearyou
CATEGORIES:
DESCRIPTION:A Service of Sung Holy Communion takes place at The Good Sheph
 erd  on the 3rd and 4th Sunday of each month.\nThe service is followed by 
 Coffee in the Bishop Gott Memorial Hall
GEO:-4.704079;50.350594
LOCATION:Par: Good Shepherd
URL:https://www.achurchnearyou.com/church/2704/service-and-events/events/1
 145191/
END:VEVENT
BEGIN:VEVENT
SUMMARY:Sunday Holy Communion
DTSTART;TZID=Europe/London:20250420T100000
DTEND;TZID=Europe/London:20250420T111500
DTSTAMP:20260424T030516Z
UID:11451912025-04-20 10:00:00+01:00achurchnearyou
CATEGORIES:
DESCRIPTION:A Service of Sung Holy Communion takes place at The Good Sheph
 erd  on the 3rd and 4th Sunday of each month.\nThe service is followed by 
 Coffee in the Bishop Gott Memorial Hall
GEO:-4.704079;50.350594
LOCATION:Par: Good Shepherd
URL:https://www.achurchnearyou.com/church/2704/service-and-events/events/1
 145191/
END:VEVENT
BEGIN:VEVENT
SUMMARY:Sunday Holy Communion
DTSTART;TZID=Europe/London:20250427T100000
DTEND;TZID=Europe/London:20250427T111500
DTSTAMP:20260424T030516Z
UID:11451912025-04-27 10:00:00+01:00achurchnearyou
CATEGORIES:
DESCRIPTION:A Service of Sung Holy Communion takes place at The Good Sheph
 erd  on the 3rd and 4th Sunday of each month.\nThe service is followed by 
 Coffee in the Bishop Gott Memorial Hall
GEO:-4.704079;50.350594
LOCATION:Par: Good Shepherd
URL:https://www.achurchnearyou.com/church/2704/service-and-events/events/1
 145191/
END:VEVENT
BEGIN:VEVENT
SUMMARY:Sunday Holy Communion
DTSTART;TZID=Europe/London:20250518T100000
DTEND;TZID=Europe/London:20250518T111500
DTSTAMP:20260424T030516Z
UID:11451912025-05-18 10:00:00+01:00achurchnearyou
CATEGORIES:
DESCRIPTION:A Service of Sung Holy Communion takes place at The Good Sheph
 erd  on the 3rd and 4th Sunday of each month.\nThe service is followed by 
 Coffee in the Bishop Gott Memorial Hall
GEO:-4.704079;50.350594
LOCATION:Par: Good Shepherd
URL:https://www.achurchnearyou.com/church/2704/service-and-events/events/1
 145191/
END:VEVENT
BEGIN:VEVENT
SUMMARY:Sunday Holy Communion
DTSTART;TZID=Europe/London:20250525T100000
DTEND;TZID=Europe/London:20250525T111500
DTSTAMP:20260424T030516Z
UID:11451912025-05-25 10:00:00+01:00achurchnearyou
CATEGORIES:
DESCRIPTION:A Service of Sung Holy Communion takes place at The Good Sheph
 erd  on the 3rd and 4th Sunday of each month.\nThe service is followed by 
 Coffee in the Bishop Gott Memorial Hall
GEO:-4.704079;50.350594
LOCATION:Par: Good Shepherd
URL:https://www.achurchnearyou.com/church/2704/service-and-events/events/1
 145191/
END:VEVENT
BEGIN:VEVENT
SUMMARY:Sunday Holy Communion
DTSTART;TZID=Europe/London:20250615T100000
DTEND;TZID=Europe/London:20250615T111500
DTSTAMP:20260424T030516Z
UID:11451912025-06-15 10:00:00+01:00achurchnearyou
CATEGORIES:
DESCRIPTION:A Service of Sung Holy Communion takes place at The Good Sheph
 erd  on the 3rd and 4th Sunday of each month.\nThe service is followed by 
 Coffee in the Bishop Gott Memorial Hall
GEO:-4.704079;50.350594
LOCATION:Par: Good Shepherd
URL:https://www.achurchnearyou.com/church/2704/service-and-events/events/1
 145191/
END:VEVENT
BEGIN:VEVENT
SUMMARY:Sunday Holy Communion
DTSTART;TZID=Europe/London:20250622T100000
DTEND;TZID=Europe/London:20250622T111500
DTSTAMP:20260424T030516Z
UID:11451912025-06-22 10:00:00+01:00achurchnearyou
CATEGORIES:
DESCRIPTION:A Service of Sung Holy Communion takes place at The Good Sheph
 erd  on the 3rd and 4th Sunday of each month.\nThe service is followed by 
 Coffee in the Bishop Gott Memorial Hall
GEO:-4.704079;50.350594
LOCATION:Par: Good Shepherd
URL:https://www.achurchnearyou.com/church/2704/service-and-events/events/1
 145191/
END:VEVENT
BEGIN:VEVENT
SUMMARY:Sunday Holy Communion
DTSTART;TZID=Europe/London:20250720T100000
DTEND;TZID=Europe/London:20250720T111500
DTSTAMP:20260424T030516Z
UID:11451912025-07-20 10:00:00+01:00achurchnearyou
CATEGORIES:
DESCRIPTION:A Service of Sung Holy Communion takes place at The Good Sheph
 erd  on the 3rd and 4th Sunday of each month.\nThe service is followed by 
 Coffee in the Bishop Gott Memorial Hall
GEO:-4.704079;50.350594
LOCATION:Par: Good Shepherd
URL:https://www.achurchnearyou.com/church/2704/service-and-events/events/1
 145191/
END:VEVENT
BEGIN:VEVENT
SUMMARY:Sunday Holy Communion
DTSTART;TZID=Europe/London:20250727T100000
DTEND;TZID=Europe/London:20250727T111500
DTSTAMP:20260424T030516Z
UID:11451912025-07-27 10:00:00+01:00achurchnearyou
CATEGORIES:
DESCRIPTION:A Service of Sung Holy Communion takes place at The Good Sheph
 erd  on the 3rd and 4th Sunday of each month.\nThe service is followed by 
 Coffee in the Bishop Gott Memorial Hall
GEO:-4.704079;50.350594
LOCATION:Par: Good Shepherd
URL:https://www.achurchnearyou.com/church/2704/service-and-events/events/1
 145191/
END:VEVENT
BEGIN:VEVENT
SUMMARY:Sunday Holy Communion
DTSTART;TZID=Europe/London:20250817T100000
DTEND;TZID=Europe/London:20250817T111500
DTSTAMP:20260424T030516Z
UID:11451912025-08-17 10:00:00+01:00achurchnearyou
CATEGORIES:
DESCRIPTION:A Service of Sung Holy Communion takes place at The Good Sheph
 erd  on the 3rd and 4th Sunday of each month.\nThe service is followed by 
 Coffee in the Bishop Gott Memorial Hall
GEO:-4.704079;50.350594
LOCATION:Par: Good Shepherd
URL:https://www.achurchnearyou.com/church/2704/service-and-events/events/1
 145191/
END:VEVENT
BEGIN:VEVENT
SUMMARY:Sunday Holy Communion
DTSTART;TZID=Europe/London:20250824T100000
DTEND;TZID=Europe/London:20250824T111500
DTSTAMP:20260424T030516Z
UID:11451912025-08-24 10:00:00+01:00achurchnearyou
CATEGORIES:
DESCRIPTION:A Service of Sung Holy Communion takes place at The Good Sheph
 erd  on the 3rd and 4th Sunday of each month.\nThe service is followed by 
 Coffee in the Bishop Gott Memorial Hall
GEO:-4.704079;50.350594
LOCATION:Par: Good Shepherd
URL:https://www.achurchnearyou.com/church/2704/service-and-events/events/1
 145191/
END:VEVENT
BEGIN:VEVENT
SUMMARY:Sunday Holy Communion
DTSTART;TZID=Europe/London:20250921T100000
DTEND;TZID=Europe/London:20250921T111500
DTSTAMP:20260424T030516Z
UID:11451912025-09-21 10:00:00+01:00achurchnearyou
CATEGORIES:
DESCRIPTION:A Service of Sung Holy Communion takes place at The Good Sheph
 erd  on the 3rd and 4th Sunday of each month.\nThe service is followed by 
 Coffee in the Bishop Gott Memorial Hall
GEO:-4.704079;50.350594
LOCATION:Par: Good Shepherd
URL:https://www.achurchnearyou.com/church/2704/service-and-events/events/1
 145191/
END:VEVENT
BEGIN:VEVENT
SUMMARY:Sunday Holy Communion
DTSTART;TZID=Europe/London:20250928T100000
DTEND;TZID=Europe/London:20250928T111500
DTSTAMP:20260424T030516Z
UID:11451912025-09-28 10:00:00+01:00achurchnearyou
CATEGORIES:
DESCRIPTION:A Service of Sung Holy Communion takes place at The Good Sheph
 erd  on the 3rd and 4th Sunday of each month.\nThe service is followed by 
 Coffee in the Bishop Gott Memorial Hall
GEO:-4.704079;50.350594
LOCATION:Par: Good Shepherd
URL:https://www.achurchnearyou.com/church/2704/service-and-events/events/1
 145191/
END:VEVENT
BEGIN:VEVENT
SUMMARY:Sunday Holy Communion
DTSTART;TZID=Europe/London:20251019T100000
DTEND;TZID=Europe/London:20251019T111500
DTSTAMP:20260424T030516Z
UID:11451912025-10-19 10:00:00+01:00achurchnearyou
CATEGORIES:
DESCRIPTION:A Service of Sung Holy Communion takes place at The Good Sheph
 erd  on the 3rd and 4th Sunday of each month.\nThe service is followed by 
 Coffee in the Bishop Gott Memorial Hall
GEO:-4.704079;50.350594
LOCATION:Par: Good Shepherd
URL:https://www.achurchnearyou.com/church/2704/service-and-events/events/1
 145191/
END:VEVENT
BEGIN:VEVENT
SUMMARY:Sunday Holy Communion
DTSTART;TZID=Europe/London:20251026T100000
DTEND;TZID=Europe/London:20251026T111500
DTSTAMP:20260424T030516Z
UID:11451912025-10-26 10:00:00+00:00achurchnearyou
CATEGORIES:
DESCRIPTION:A Service of Sung Holy Communion takes place at The Good Sheph
 erd  on the 3rd and 4th Sunday of each month.\nThe service is followed by 
 Coffee in the Bishop Gott Memorial Hall
GEO:-4.704079;50.350594
LOCATION:Par: Good Shepherd
URL:https://www.achurchnearyou.com/church/2704/service-and-events/events/1
 145191/
END:VEVENT
BEGIN:VEVENT
SUMMARY:Sunday Holy Communion
DTSTART;TZID=Europe/London:20251116T100000
DTEND;TZID=Europe/London:20251116T111500
DTSTAMP:20260424T030516Z
UID:11451912025-11-16 10:00:00+00:00achurchnearyou
CATEGORIES:
DESCRIPTION:A Service of Sung Holy Communion takes place at The Good Sheph
 erd  on the 3rd and 4th Sunday of each month.\nThe service is followed by 
 Coffee in the Bishop Gott Memorial Hall
GEO:-4.704079;50.350594
LOCATION:Par: Good Shepherd
URL:https://www.achurchnearyou.com/church/2704/service-and-events/events/1
 145191/
END:VEVENT
BEGIN:VEVENT
SUMMARY:Sunday Holy Communion
DTSTART;TZID=Europe/London:20251123T100000
DTEND;TZID=Europe/London:20251123T111500
DTSTAMP:20260424T030516Z
UID:11451912025-11-23 10:00:00+00:00achurchnearyou
CATEGORIES:
DESCRIPTION:A Service of Sung Holy Communion takes place at The Good Sheph
 erd  on the 3rd and 4th Sunday of each month.\nThe service is followed by 
 Coffee in the Bishop Gott Memorial Hall
GEO:-4.704079;50.350594
LOCATION:Par: Good Shepherd
URL:https://www.achurchnearyou.com/church/2704/service-and-events/events/1
 145191/
END:VEVENT
BEGIN:VEVENT
SUMMARY:Sunday Holy Communion
DTSTART;TZID=Europe/London:20251221T100000
DTEND;TZID=Europe/London:20251221T111500
DTSTAMP:20260424T030516Z
UID:11451912025-12-21 10:00:00+00:00achurchnearyou
CATEGORIES:
DESCRIPTION:A Service of Sung Holy Communion takes place at The Good Sheph
 erd  on the 3rd and 4th Sunday of each month.\nThe service is followed by 
 Coffee in the Bishop Gott Memorial Hall
GEO:-4.704079;50.350594
LOCATION:Par: Good Shepherd
URL:https://www.achurchnearyou.com/church/2704/service-and-events/events/1
 145191/
END:VEVENT
END:VCALENDAR
