BEGIN:VCALENDAR
VERSION:2.0
PRODID:-//achurchnearyou.com//eventfeed//EN
CALSCALE:GREGORIAN
METHOD:PUBLISH
X-WR-TIMEZONE:UTC
BEGIN:VEVENT
SUMMARY:Spring Bazaar
DTSTART:20250315T103000Z
DTEND:20250315T120000Z
DTSTAMP:20260425T124554Z
UID:11678732025-03-15 10:30:00+00:00achurchnearyou
CATEGORIES:
DESCRIPTION:Welcome to our Spring Bazaar where there will be a chance to b
 uy Home Made cakes and savoury items\, preserves and  plants and to enjoy 
 Bacon Butties
LOCATION:The Bishop Gott Memorial Hall
URL:https://www.achurchnearyou.com/church/2704/service-and-events/events/1
 167873/
END:VEVENT
END:VCALENDAR
