BEGIN:VCALENDAR
VERSION:2.0
PRODID:-//achurchnearyou.com//eventfeed//EN
CALSCALE:GREGORIAN
METHOD:PUBLISH
X-WR-TIMEZONE:UTC
BEGIN:VEVENT
SUMMARY:Sung Holy Communion on 29th June
DTSTART:20250629T093000Z
DTEND:20250629T104500Z
DTSTAMP:20260424T165311Z
UID:12070702025-06-29 09:30:00+00:00achurchnearyou
CATEGORIES:
DESCRIPTION:A joint group service with Charlestown\, Par\, St Blaise and T
 reverbyn at St Peter's Treverbyn for their Patronal Festival
LOCATION:The Church of St Peter the Apostle
URL:https://www.achurchnearyou.com/church/2704/service-and-events/events/1
 207070/
END:VEVENT
END:VCALENDAR
