BEGIN:VCALENDAR
VERSION:2.0
PRODID:-//achurchnearyou.com//eventfeed//EN
CALSCALE:GREGORIAN
METHOD:PUBLISH
X-WR-TIMEZONE:UTC
BEGIN:VEVENT
SUMMARY:Epiphany Carols & Blessing of Families for the New Year
DTSTART:20250119T163000Z
DTEND:20250119T173000Z
DTSTAMP:20260422T102953Z
UID:11444152025-01-19 16:30:00+00:00achurchnearyou
CATEGORIES:
DESCRIPTION:A short Service of Music and Readings to celebrate the season 
 of Epiphany. Followed by Tea and Cakes.
GEO:-1.282824;51.66773
LOCATION:Abingdon St Helen
URL:https://www.achurchnearyou.com/church/2720/service-and-events/events/1
 144415/
END:VEVENT
END:VCALENDAR
