BEGIN:VCALENDAR
VERSION:2.0
PRODID:-//achurchnearyou.com//eventfeed//EN
CALSCALE:GREGORIAN
METHOD:PUBLISH
X-WR-TIMEZONE:UTC
BEGIN:VEVENT
SUMMARY:Sunday 26th January 2025 Epiphany 3
DTSTART:20250126T093000Z
DTEND:20250126T120000Z
DTSTAMP:20260422T164256Z
UID:11452692025-01-26 09:30:00+00:00achurchnearyou
CATEGORIES:
DESCRIPTION:Dickleburgh 9.30am  Holy Communion\nPulham Market 9.30am Sunda
 y Worship +  Lighthouse\nPulham St Mary 11am Holy Communion\nStarston 11am
  BCP Morning Prayer  \nThelveton 11am  Holy Communion\nRushall Open for Pr
 ayer
LOCATION:Dickleburgh and the Pulhams Benefice
URL:https://www.achurchnearyou.com/church/2747/service-and-events/events/1
 145269/
END:VEVENT
END:VCALENDAR
