BEGIN:VCALENDAR
VERSION:2.0
PRODID:-//achurchnearyou.com//eventfeed//EN
CALSCALE:GREGORIAN
METHOD:PUBLISH
X-WR-TIMEZONE:UTC
BEGIN:VEVENT
SUMMARY:Christian Aid Coffee Morning
DTSTART:20250515T090000Z
DTEND:20250515T110000Z
DTSTAMP:20260422T085350Z
UID:11955742025-05-15 09:00:00+00:00achurchnearyou
CATEGORIES:
DESCRIPTION:Enjoy coffee and a chat\, while helping this good cause.
LOCATION:St Mary the Virgin\, Pulham St Mary
URL:https://www.achurchnearyou.com/church/2747/service-and-events/events/1
 195574/
END:VEVENT
END:VCALENDAR
