BEGIN:VCALENDAR
VERSION:2.0
PRODID:-//achurchnearyou.com//eventfeed//EN
CALSCALE:GREGORIAN
METHOD:PUBLISH
X-WR-TIMEZONE:UTC
BEGIN:VEVENT
SUMMARY:Sunday 6th July Trinity 3 (Proper 9)
DTSTART:20250706T070000Z
DTEND:20250706T110000Z
DTSTAMP:20260422T050941Z
UID:12075502025-07-06 07:00:00+00:00achurchnearyou
CATEGORIES:
DESCRIPTION:Benefice Services:\n8am Pulham St Mary BCP Communion\n9.30am P
 ulham Market Holy Communion\n9.30am Dickleburgh All Age Worship (breakfast
  9am)\n11am Starston BCP Communion\n11am Thelveton Morning Prayer\nRushall
  open for prayer all day
LOCATION:Dickleburgh and the Pulhams Benefice
URL:https://www.achurchnearyou.com/church/2747/service-and-events/events/1
 207550/
END:VEVENT
END:VCALENDAR
