BEGIN:VCALENDAR
VERSION:2.0
PRODID:-//achurchnearyou.com//eventfeed//EN
CALSCALE:GREGORIAN
METHOD:PUBLISH
X-WR-TIMEZONE:UTC
BEGIN:VEVENT
SUMMARY:Sunday 17th August Trinity 9 Proper 15
DTSTART:20250817T083000Z
DTEND:20250817T110000Z
DTSTAMP:20260422T050659Z
UID:12091922025-08-17 08:30:00+00:00achurchnearyou
CATEGORIES:
DESCRIPTION:Benefice Services:\n9.30am Dickleburgh Morning Prayer\n9.30am 
 Pulham Market Holy Communion\n11am Pulham St Mary Patronal Service\n11am S
 tarston BCP Communion\nThelveton and Rushall open for prayer
LOCATION:Dickleburgh and the Pulhams Benefice
URL:https://www.achurchnearyou.com/church/2747/service-and-events/events/1
 209192/
END:VEVENT
END:VCALENDAR
