BEGIN:VCALENDAR
VERSION:2.0
PRODID:-//achurchnearyou.com//eventfeed//EN
CALSCALE:GREGORIAN
METHOD:PUBLISH
X-WR-TIMEZONE:UTC
BEGIN:VEVENT
SUMMARY:Afternoon Tea and Church Tour
DTSTART:20250809T140000Z
DTEND:20250809T160000Z
DTSTAMP:20260422T050804Z
UID:12137922025-08-09 14:00:00+00:00achurchnearyou
CATEGORIES:
DESCRIPTION:Churchyard Trail\, Cakes\, Produce\, Raffle\nProceeds to the C
 hurch Restoration Fund. Tickets £12.50 per person\nPlease book your ticke
 t from Rosetta 676549 or Ruth 676296
LOCATION:St Mary the Virgin\, Pulham St Mary
URL:https://www.achurchnearyou.com/church/2747/service-and-events/events/1
 213792/
END:VEVENT
END:VCALENDAR
