BEGIN:VCALENDAR
VERSION:2.0
PRODID:-//achurchnearyou.com//eventfeed//EN
CALSCALE:GREGORIAN
METHOD:PUBLISH
X-WR-TIMEZONE:UTC
BEGIN:VEVENT
SUMMARY:Good Friday Intergenerational Service
DTSTART:20260403T090000Z
DTEND:20260403T100000Z
DTSTAMP:20260422T154531Z
UID:13150602026-04-03 09:00:00+00:00achurchnearyou
CATEGORIES:
DESCRIPTION:All ages are welcome to this Intergenerational\, interactive s
 ervice on Good Friday.
GEO:-0.549644;51.262301
LOCATION:Burpham: The Church of the Holy Spirit
URL:https://www.burphamchurch.org.uk
END:VEVENT
END:VCALENDAR
