BEGIN:VCALENDAR
VERSION:2.0
PRODID:-//achurchnearyou.com//eventfeed//EN
CALSCALE:GREGORIAN
METHOD:PUBLISH
X-WR-TIMEZONE:UTC
BEGIN:VEVENT
SUMMARY:Parish Eucharist
DTSTART;TZID=Europe/London:20260426T093000
DTEND;TZID=Europe/London:20260426T093000
DTSTAMP:20260422T215753Z
UID:3393852026-04-26 09:30:00+01:00achurchnearyou
CATEGORIES:
DESCRIPTION:Parish Eucharist on the Fourth Sunday of each month - All welc
 ome.
GEO:-4.633359;50.327634
LOCATION:Polruan: St Saviour
URL:https://www.achurchnearyou.com/church/2765/service-and-events/events/3
 39385/
END:VEVENT
BEGIN:VEVENT
SUMMARY:Parish Eucharist
DTSTART;TZID=Europe/London:20260524T093000
DTEND;TZID=Europe/London:20260524T093000
DTSTAMP:20260422T215753Z
UID:3393852026-05-24 09:30:00+01:00achurchnearyou
CATEGORIES:
DESCRIPTION:Parish Eucharist on the Fourth Sunday of each month - All welc
 ome.
GEO:-4.633359;50.327634
LOCATION:Polruan: St Saviour
URL:https://www.achurchnearyou.com/church/2765/service-and-events/events/3
 39385/
END:VEVENT
BEGIN:VEVENT
SUMMARY:Parish Eucharist
DTSTART;TZID=Europe/London:20260628T093000
DTEND;TZID=Europe/London:20260628T093000
DTSTAMP:20260422T215753Z
UID:3393852026-06-28 09:30:00+01:00achurchnearyou
CATEGORIES:
DESCRIPTION:Parish Eucharist on the Fourth Sunday of each month - All welc
 ome.
GEO:-4.633359;50.327634
LOCATION:Polruan: St Saviour
URL:https://www.achurchnearyou.com/church/2765/service-and-events/events/3
 39385/
END:VEVENT
BEGIN:VEVENT
SUMMARY:Parish Eucharist
DTSTART;TZID=Europe/London:20260726T093000
DTEND;TZID=Europe/London:20260726T093000
DTSTAMP:20260422T215753Z
UID:3393852026-07-26 09:30:00+01:00achurchnearyou
CATEGORIES:
DESCRIPTION:Parish Eucharist on the Fourth Sunday of each month - All welc
 ome.
GEO:-4.633359;50.327634
LOCATION:Polruan: St Saviour
URL:https://www.achurchnearyou.com/church/2765/service-and-events/events/3
 39385/
END:VEVENT
BEGIN:VEVENT
SUMMARY:Parish Eucharist
DTSTART;TZID=Europe/London:20260823T093000
DTEND;TZID=Europe/London:20260823T093000
DTSTAMP:20260422T215753Z
UID:3393852026-08-23 09:30:00+01:00achurchnearyou
CATEGORIES:
DESCRIPTION:Parish Eucharist on the Fourth Sunday of each month - All welc
 ome.
GEO:-4.633359;50.327634
LOCATION:Polruan: St Saviour
URL:https://www.achurchnearyou.com/church/2765/service-and-events/events/3
 39385/
END:VEVENT
BEGIN:VEVENT
SUMMARY:Parish Eucharist
DTSTART;TZID=Europe/London:20260927T093000
DTEND;TZID=Europe/London:20260927T093000
DTSTAMP:20260422T215753Z
UID:3393852026-09-27 09:30:00+01:00achurchnearyou
CATEGORIES:
DESCRIPTION:Parish Eucharist on the Fourth Sunday of each month - All welc
 ome.
GEO:-4.633359;50.327634
LOCATION:Polruan: St Saviour
URL:https://www.achurchnearyou.com/church/2765/service-and-events/events/3
 39385/
END:VEVENT
BEGIN:VEVENT
SUMMARY:Parish Eucharist
DTSTART;TZID=Europe/London:20261025T093000
DTEND;TZID=Europe/London:20261025T093000
DTSTAMP:20260422T215753Z
UID:3393852026-10-25 09:30:00+00:00achurchnearyou
CATEGORIES:
DESCRIPTION:Parish Eucharist on the Fourth Sunday of each month - All welc
 ome.
GEO:-4.633359;50.327634
LOCATION:Polruan: St Saviour
URL:https://www.achurchnearyou.com/church/2765/service-and-events/events/3
 39385/
END:VEVENT
BEGIN:VEVENT
SUMMARY:Parish Eucharist
DTSTART;TZID=Europe/London:20261122T093000
DTEND;TZID=Europe/London:20261122T093000
DTSTAMP:20260422T215753Z
UID:3393852026-11-22 09:30:00+00:00achurchnearyou
CATEGORIES:
DESCRIPTION:Parish Eucharist on the Fourth Sunday of each month - All welc
 ome.
GEO:-4.633359;50.327634
LOCATION:Polruan: St Saviour
URL:https://www.achurchnearyou.com/church/2765/service-and-events/events/3
 39385/
END:VEVENT
BEGIN:VEVENT
SUMMARY:Parish Eucharist
DTSTART;TZID=Europe/London:20261227T093000
DTEND;TZID=Europe/London:20261227T093000
DTSTAMP:20260422T215753Z
UID:3393852026-12-27 09:30:00+00:00achurchnearyou
CATEGORIES:
DESCRIPTION:Parish Eucharist on the Fourth Sunday of each month - All welc
 ome.
GEO:-4.633359;50.327634
LOCATION:Polruan: St Saviour
URL:https://www.achurchnearyou.com/church/2765/service-and-events/events/3
 39385/
END:VEVENT
BEGIN:VEVENT
SUMMARY:Parish Eucharist
DTSTART;TZID=Europe/London:20270124T093000
DTEND;TZID=Europe/London:20270124T093000
DTSTAMP:20260422T215753Z
UID:3393852027-01-24 09:30:00+00:00achurchnearyou
CATEGORIES:
DESCRIPTION:Parish Eucharist on the Fourth Sunday of each month - All welc
 ome.
GEO:-4.633359;50.327634
LOCATION:Polruan: St Saviour
URL:https://www.achurchnearyou.com/church/2765/service-and-events/events/3
 39385/
END:VEVENT
BEGIN:VEVENT
SUMMARY:Parish Eucharist
DTSTART;TZID=Europe/London:20270228T093000
DTEND;TZID=Europe/London:20270228T093000
DTSTAMP:20260422T215753Z
UID:3393852027-02-28 09:30:00+00:00achurchnearyou
CATEGORIES:
DESCRIPTION:Parish Eucharist on the Fourth Sunday of each month - All welc
 ome.
GEO:-4.633359;50.327634
LOCATION:Polruan: St Saviour
URL:https://www.achurchnearyou.com/church/2765/service-and-events/events/3
 39385/
END:VEVENT
BEGIN:VEVENT
SUMMARY:Parish Eucharist
DTSTART;TZID=Europe/London:20270328T093000
DTEND;TZID=Europe/London:20270328T093000
DTSTAMP:20260422T215753Z
UID:3393852027-03-28 09:30:00+01:00achurchnearyou
CATEGORIES:
DESCRIPTION:Parish Eucharist on the Fourth Sunday of each month - All welc
 ome.
GEO:-4.633359;50.327634
LOCATION:Polruan: St Saviour
URL:https://www.achurchnearyou.com/church/2765/service-and-events/events/3
 39385/
END:VEVENT
END:VCALENDAR
