BEGIN:VCALENDAR
VERSION:2.0
PRODID:-//achurchnearyou.com//eventfeed//EN
CALSCALE:GREGORIAN
METHOD:PUBLISH
X-WR-TIMEZONE:UTC
BEGIN:VEVENT
SUMMARY:Celebration Christmas Day
DTSTART:20251225T100000Z
DTEND:20251225T110000Z
DTSTAMP:20260421T031529Z
UID:12517692025-12-25 10:00:00+00:00achurchnearyou
CATEGORIES:
DESCRIPTION:Come and welcome Jesus' Birthday.
GEO:-4.428106;50.523811
LOCATION:St. Paul's : Upton Cross
URL:https://www.achurchnearyou.com/church/2766/service-and-events/events/1
 251769/
END:VEVENT
END:VCALENDAR
