BEGIN:VCALENDAR
VERSION:2.0
PRODID:-//achurchnearyou.com//eventfeed//EN
CALSCALE:GREGORIAN
METHOD:PUBLISH
X-WR-TIMEZONE:UTC
BEGIN:VEVENT
SUMMARY:Messy Church
DTSTART;TZID=Europe/London:20260517T150000
DTEND;TZID=Europe/London:20260517T170000
DTSTAMP:20260420T151015Z
UID:13050732026-05-17 15:00:00+01:00achurchnearyou
CATEGORIES:
DESCRIPTION:An interactive time with crafts\, games\, food and more.  For 
 all ages. (You don't need to get 'messy'.)
LOCATION:Rilla Mill Retreat Centre
URL:https://www.achurchnearyou.com/church/2766/service-and-events/events/1
 305073/
END:VEVENT
BEGIN:VEVENT
SUMMARY:Messy Church
DTSTART;TZID=Europe/London:20260621T150000
DTEND;TZID=Europe/London:20260621T170000
DTSTAMP:20260420T151015Z
UID:13050732026-06-21 15:00:00+01:00achurchnearyou
CATEGORIES:
DESCRIPTION:An interactive time with crafts\, games\, food and more.  For 
 all ages. (You don't need to get 'messy'.)
LOCATION:Rilla Mill Retreat Centre
URL:https://www.achurchnearyou.com/church/2766/service-and-events/events/1
 305073/
END:VEVENT
BEGIN:VEVENT
SUMMARY:Messy Church
DTSTART;TZID=Europe/London:20260719T150000
DTEND;TZID=Europe/London:20260719T170000
DTSTAMP:20260420T151015Z
UID:13050732026-07-19 15:00:00+01:00achurchnearyou
CATEGORIES:
DESCRIPTION:An interactive time with crafts\, games\, food and more.  For 
 all ages. (You don't need to get 'messy'.)
LOCATION:Rilla Mill Retreat Centre
URL:https://www.achurchnearyou.com/church/2766/service-and-events/events/1
 305073/
END:VEVENT
BEGIN:VEVENT
SUMMARY:Messy Church
DTSTART;TZID=Europe/London:20260816T150000
DTEND;TZID=Europe/London:20260816T170000
DTSTAMP:20260420T151015Z
UID:13050732026-08-16 15:00:00+01:00achurchnearyou
CATEGORIES:
DESCRIPTION:An interactive time with crafts\, games\, food and more.  For 
 all ages. (You don't need to get 'messy'.)
LOCATION:Rilla Mill Retreat Centre
URL:https://www.achurchnearyou.com/church/2766/service-and-events/events/1
 305073/
END:VEVENT
BEGIN:VEVENT
SUMMARY:Messy Church
DTSTART;TZID=Europe/London:20260920T150000
DTEND;TZID=Europe/London:20260920T170000
DTSTAMP:20260420T151015Z
UID:13050732026-09-20 15:00:00+01:00achurchnearyou
CATEGORIES:
DESCRIPTION:An interactive time with crafts\, games\, food and more.  For 
 all ages. (You don't need to get 'messy'.)
LOCATION:Rilla Mill Retreat Centre
URL:https://www.achurchnearyou.com/church/2766/service-and-events/events/1
 305073/
END:VEVENT
BEGIN:VEVENT
SUMMARY:Messy Church
DTSTART;TZID=Europe/London:20261018T150000
DTEND;TZID=Europe/London:20261018T170000
DTSTAMP:20260420T151015Z
UID:13050732026-10-18 15:00:00+01:00achurchnearyou
CATEGORIES:
DESCRIPTION:An interactive time with crafts\, games\, food and more.  For 
 all ages. (You don't need to get 'messy'.)
LOCATION:Rilla Mill Retreat Centre
URL:https://www.achurchnearyou.com/church/2766/service-and-events/events/1
 305073/
END:VEVENT
BEGIN:VEVENT
SUMMARY:Messy Church
DTSTART;TZID=Europe/London:20261115T150000
DTEND;TZID=Europe/London:20261115T170000
DTSTAMP:20260420T151015Z
UID:13050732026-11-15 15:00:00+00:00achurchnearyou
CATEGORIES:
DESCRIPTION:An interactive time with crafts\, games\, food and more.  For 
 all ages. (You don't need to get 'messy'.)
LOCATION:Rilla Mill Retreat Centre
URL:https://www.achurchnearyou.com/church/2766/service-and-events/events/1
 305073/
END:VEVENT
END:VCALENDAR
