BEGIN:VCALENDAR
VERSION:2.0
PRODID:-//achurchnearyou.com//eventfeed//EN
CALSCALE:GREGORIAN
METHOD:PUBLISH
X-WR-TIMEZONE:UTC
BEGIN:VEVENT
SUMMARY:Palm Sunday Service
DTSTART:20250413T140000Z
DTEND:20250413T150000Z
DTSTAMP:20260422T022238Z
UID:11900942025-04-13 14:00:00+00:00achurchnearyou
CATEGORIES:
DESCRIPTION:All Age Open Air Service for Palm Sunday\, with craft activiti
 es and refreshments with homemade cakes after the service.  Come & meet th
 e donkeys!
LOCATION:Home Farm
URL:https://www.achurchnearyou.com/church/278/service-and-events/events/11
 90094/
END:VEVENT
END:VCALENDAR
