BEGIN:VCALENDAR
VERSION:2.0
PRODID:-//achurchnearyou.com//eventfeed//EN
CALSCALE:GREGORIAN
METHOD:PUBLISH
X-WR-TIMEZONE:UTC
BEGIN:VEVENT
SUMMARY:Carols in the Churchyard
DTSTART:20251224T160000Z
DTEND:20251224T164500Z
DTSTAMP:20260421T115405Z
UID:12511162025-12-24 16:00:00+00:00achurchnearyou
CATEGORIES:
DESCRIPTION:A family friendly outdoor carol service in the churchyard on C
 hristmas Eve.  The churchyard is lit in festive colours & refreshments\, m
 ulled wine\, hot chocolate & homemade treats are served before the service
  starts.  Please bring a torch.
GEO:-1.157158;51.922754
LOCATION:St Laurence
URL:https://www.achurchnearyou.com/church/278/service-and-events/events/12
 51116/
END:VEVENT
END:VCALENDAR
