BEGIN:VCALENDAR
VERSION:2.0
PRODID:-//achurchnearyou.com//eventfeed//EN
CALSCALE:GREGORIAN
METHOD:PUBLISH
X-WR-TIMEZONE:UTC
BEGIN:VEVENT
SUMMARY:Christmas Compline
DTSTART:20251228T150000Z
DTEND:20251228T154500Z
DTSTAMP:20260421T094512Z
UID:12748652025-12-28 15:00:00+00:00achurchnearyou
CATEGORIES:
DESCRIPTION:A quiet\, contemplative service for the Sunday after Christmas
 .  All welcome.
GEO:-1.157158;51.922754
LOCATION:St Laurence
URL:https://www.achurchnearyou.com/church/278/service-and-events/events/12
 74865/
END:VEVENT
END:VCALENDAR
