BEGIN:VCALENDAR
VERSION:2.0
PRODID:-//achurchnearyou.com//eventfeed//EN
CALSCALE:GREGORIAN
METHOD:PUBLISH
X-WR-TIMEZONE:UTC
BEGIN:VEVENT
SUMMARY:Christingle
DTSTART:20241222T160000Z
DTEND:20241222T170000Z
DTSTAMP:20260425T135128Z
UID:11142152024-12-22 16:00:00+00:00achurchnearyou
CATEGORIES:
DESCRIPTION:Families are invited to join us for our special Christingle se
 rvice.\n\nOur younger visitors will be given a Christingle. Made from an o
 range\, a candle\, a red ribbon\, cocktail sticks and sweets\, each of the
 se items has a specific meaning behind it\, which we will share as we expl
 ore the story of God's love for the world at Christmas.\n\nWe will then tu
 rn down the lights and light up the candles as we complete our story with 
 songs and words in celebration of the birth of Jesus - Light of the World.
GEO:-0.308636;51.314278
LOCATION:St George's
URL:https://sgsg.churchsuite.com/events/cyxuvd5g
END:VEVENT
END:VCALENDAR
