BEGIN:VCALENDAR
VERSION:2.0
PRODID:-//achurchnearyou.com//eventfeed//EN
CALSCALE:GREGORIAN
METHOD:PUBLISH
X-WR-TIMEZONE:UTC
BEGIN:VEVENT
SUMMARY:Compline
DTSTART;TZID=Europe/London:20260401T193000
DTEND;TZID=Europe/London:20260401T201500
DTSTAMP:20260423T072645Z
UID:13148531775068200.0achurchnearyou
CATEGORIES:
DESCRIPTION:A contemplative service as part of the preparation for Good Fr
 iday and Easter Day
LOCATION:St Margaret
URL:https://www.achurchnearyou.com/church/280/service-and-events/events/13
 14853/
END:VEVENT
BEGIN:VEVENT
SUMMARY:Stations of the Cross
DTSTART;TZID=Europe/London:20260403T100000
DTEND;TZID=Europe/London:20260403T104500
DTSTAMP:20260423T072645Z
UID:13148581775206800.0achurchnearyou
CATEGORIES:
DESCRIPTION:A service of nine stations of the cross.  Weather permitting t
 his takes place between the churchyard and inside the church
LOCATION:St Margaret
URL:https://www.achurchnearyou.com/church/280/service-and-events/events/13
 14858/
END:VEVENT
BEGIN:VEVENT
SUMMARY:Easter Sunday
DTSTART;TZID=Europe/London:20260405T111500
DTEND;TZID=Europe/London:20260405T123000
DTSTAMP:20260423T072645Z
UID:13204861775384100.0achurchnearyou
CATEGORIES:
DESCRIPTION:An Easter celebration with holy communion\, and followed by ou
 r annual Easter Egg hunt!\n\n-----------------------------\nOur regular li
 nk:\nJoin Zoom Meeting\nhttps://zoom.us/j/95767768068?pwd=QnRUOE9hSjYwS3RN
 Q0tRMlhIcDJkZz09\n\nMeeting ID: 957 6776 8068\nPasscode: 777
LOCATION:St Margaret
URL:https://www.achurchnearyou.com/church/280/service-and-events/events/13
 20486/
END:VEVENT
BEGIN:VEVENT
SUMMARY:Holy Communion
DTSTART;TZID=Europe/London:20260412T111500
DTEND;TZID=Europe/London:20260412T123000
DTSTAMP:20260423T072645Z
UID:12703961775988900.0achurchnearyou
CATEGORIES:
DESCRIPTION:We welcome you to a service in St Margaret's Church at 11.15am
 .  \n\nThis service is also streamed on Zoom\, using the link below.  \n\n
   Please check this page regularly as plans can change at short notice!\n\
 n-----------------------------\nOur regular link:\nJoin Zoom Meeting\nhttp
 s://zoom.us/j/95767768068?pwd=QnRUOE9hSjYwS3RNQ0tRMlhIcDJkZz09\n\nMeeting 
 ID: 957 6776 8068\nPasscode: 777\n\n-------------------
LOCATION:St Margaret
URL:https://www.achurchnearyou.com/church/280/service-and-events/events/12
 70396/
END:VEVENT
BEGIN:VEVENT
SUMMARY:Sunday Worship
DTSTART;TZID=Europe/London:20260419T111500
DTEND;TZID=Europe/London:20260419T121500
DTSTAMP:20260423T072645Z
UID:2731776593700.0achurchnearyou
CATEGORIES:
DESCRIPTION:This Service of the Word is often led by a member of the laity
 .  Occasionally this service also includes a baptism\, in which case the s
 ervice is led by clergy.\n\nThis service is also streamed on Zoom\, using 
 the link below.\n\nPlease check this page regularly as plans can change at
  short notice!\n\n-----------------------------\nOur regular link:\nJoin Z
 oom Meeting\nhttps://zoom.us/j/95767768068?pwd=QnRUOE9hSjYwS3RNQ0tRMlhIcDJ
 kZz09\n\nMeeting ID: 957 6776 8068\nPasscode: 777\n\n--------------------
GEO:-1.036243;51.485507
LOCATION:St Margaret
URL:https://www.achurchnearyou.com/church/280/service-and-events/events/27
 3/
END:VEVENT
BEGIN:VEVENT
SUMMARY:Holy Communion
DTSTART;TZID=Europe/London:20260426T111500
DTEND;TZID=Europe/London:20260426T123000
DTSTAMP:20260423T072645Z
UID:12703961777198500.0achurchnearyou
CATEGORIES:
DESCRIPTION:We welcome you to a service in St Margaret's Church at 11.15am
 .  \n\nThis service is also streamed on Zoom\, using the link below.  \n\n
   Please check this page regularly as plans can change at short notice!\n\
 n-----------------------------\nOur regular link:\nJoin Zoom Meeting\nhttp
 s://zoom.us/j/95767768068?pwd=QnRUOE9hSjYwS3RNQ0tRMlhIcDJkZz09\n\nMeeting 
 ID: 957 6776 8068\nPasscode: 777\n\n-------------------
LOCATION:St Margaret
URL:https://www.achurchnearyou.com/church/280/service-and-events/events/12
 70396/
END:VEVENT
BEGIN:VEVENT
SUMMARY:Holy Communion
DTSTART;TZID=Europe/London:20260503T111500
DTEND;TZID=Europe/London:20260503T123000
DTSTAMP:20260423T072645Z
UID:12703961777803300.0achurchnearyou
CATEGORIES:
DESCRIPTION:We welcome you to a service in St Margaret's Church at 11.15am
 .  \n\nThis service is also streamed on Zoom\, using the link below.  \n\n
   Please check this page regularly as plans can change at short notice!\n\
 n-----------------------------\nOur regular link:\nJoin Zoom Meeting\nhttp
 s://zoom.us/j/95767768068?pwd=QnRUOE9hSjYwS3RNQ0tRMlhIcDJkZz09\n\nMeeting 
 ID: 957 6776 8068\nPasscode: 777\n\n-------------------
LOCATION:St Margaret
URL:https://www.achurchnearyou.com/church/280/service-and-events/events/12
 70396/
END:VEVENT
BEGIN:VEVENT
SUMMARY:Holy Communion
DTSTART;TZID=Europe/London:20260510T111500
DTEND;TZID=Europe/London:20260510T123000
DTSTAMP:20260423T072645Z
UID:12703961778408100.0achurchnearyou
CATEGORIES:
DESCRIPTION:We welcome you to a service in St Margaret's Church at 11.15am
 .  \n\nThis service is also streamed on Zoom\, using the link below.  \n\n
   Please check this page regularly as plans can change at short notice!\n\
 n-----------------------------\nOur regular link:\nJoin Zoom Meeting\nhttp
 s://zoom.us/j/95767768068?pwd=QnRUOE9hSjYwS3RNQ0tRMlhIcDJkZz09\n\nMeeting 
 ID: 957 6776 8068\nPasscode: 777\n\n-------------------
LOCATION:St Margaret
URL:https://www.achurchnearyou.com/church/280/service-and-events/events/12
 70396/
END:VEVENT
BEGIN:VEVENT
SUMMARY:Sunday Worship
DTSTART;TZID=Europe/London:20260517T111500
DTEND;TZID=Europe/London:20260517T121500
DTSTAMP:20260423T072645Z
UID:2731779012900.0achurchnearyou
CATEGORIES:
DESCRIPTION:This Service of the Word is often led by a member of the laity
 .  Occasionally this service also includes a baptism\, in which case the s
 ervice is led by clergy.\n\nThis service is also streamed on Zoom\, using 
 the link below.\n\nPlease check this page regularly as plans can change at
  short notice!\n\n-----------------------------\nOur regular link:\nJoin Z
 oom Meeting\nhttps://zoom.us/j/95767768068?pwd=QnRUOE9hSjYwS3RNQ0tRMlhIcDJ
 kZz09\n\nMeeting ID: 957 6776 8068\nPasscode: 777\n\n--------------------
GEO:-1.036243;51.485507
LOCATION:St Margaret
URL:https://www.achurchnearyou.com/church/280/service-and-events/events/27
 3/
END:VEVENT
BEGIN:VEVENT
SUMMARY:Holy Communion
DTSTART;TZID=Europe/London:20260524T111500
DTEND;TZID=Europe/London:20260524T123000
DTSTAMP:20260423T072645Z
UID:12703961779617700.0achurchnearyou
CATEGORIES:
DESCRIPTION:We welcome you to a service in St Margaret's Church at 11.15am
 .  \n\nThis service is also streamed on Zoom\, using the link below.  \n\n
   Please check this page regularly as plans can change at short notice!\n\
 n-----------------------------\nOur regular link:\nJoin Zoom Meeting\nhttp
 s://zoom.us/j/95767768068?pwd=QnRUOE9hSjYwS3RNQ0tRMlhIcDJkZz09\n\nMeeting 
 ID: 957 6776 8068\nPasscode: 777\n\n-------------------
LOCATION:St Margaret
URL:https://www.achurchnearyou.com/church/280/service-and-events/events/12
 70396/
END:VEVENT
BEGIN:VEVENT
SUMMARY:Parish Communion
DTSTART;TZID=Europe/London:20260531T111500
DTEND;TZID=Europe/London:20260531T121500
DTSTAMP:20260423T072645Z
UID:3471641780222500.0achurchnearyou
CATEGORIES:
DESCRIPTION:On the fifth Sunday in the month there will usually be one com
 munion service across the whole parish of Caversham Thameside and Mapledur
 ham. The time and venue of this service will be advertised and can usually
  be seen on our website:\n\nhttps://www.ctmparish.org.uk/whats-on/calendar
 /
LOCATION:Check parish website
URL:https://www.ctmparish.org.uk/whats-on/calendar/
END:VEVENT
BEGIN:VEVENT
SUMMARY:Holy Communion
DTSTART;TZID=Europe/London:20260607T111500
DTEND;TZID=Europe/London:20260607T123000
DTSTAMP:20260423T072645Z
UID:12703961780827300.0achurchnearyou
CATEGORIES:
DESCRIPTION:We welcome you to a service in St Margaret's Church at 11.15am
 .  \n\nThis service is also streamed on Zoom\, using the link below.  \n\n
   Please check this page regularly as plans can change at short notice!\n\
 n-----------------------------\nOur regular link:\nJoin Zoom Meeting\nhttp
 s://zoom.us/j/95767768068?pwd=QnRUOE9hSjYwS3RNQ0tRMlhIcDJkZz09\n\nMeeting 
 ID: 957 6776 8068\nPasscode: 777\n\n-------------------
LOCATION:St Margaret
URL:https://www.achurchnearyou.com/church/280/service-and-events/events/12
 70396/
END:VEVENT
BEGIN:VEVENT
SUMMARY:Holy Communion
DTSTART;TZID=Europe/London:20260614T111500
DTEND;TZID=Europe/London:20260614T123000
DTSTAMP:20260423T072645Z
UID:12703961781432100.0achurchnearyou
CATEGORIES:
DESCRIPTION:We welcome you to a service in St Margaret's Church at 11.15am
 .  \n\nThis service is also streamed on Zoom\, using the link below.  \n\n
   Please check this page regularly as plans can change at short notice!\n\
 n-----------------------------\nOur regular link:\nJoin Zoom Meeting\nhttp
 s://zoom.us/j/95767768068?pwd=QnRUOE9hSjYwS3RNQ0tRMlhIcDJkZz09\n\nMeeting 
 ID: 957 6776 8068\nPasscode: 777\n\n-------------------
LOCATION:St Margaret
URL:https://www.achurchnearyou.com/church/280/service-and-events/events/12
 70396/
END:VEVENT
BEGIN:VEVENT
SUMMARY:Sunday Worship
DTSTART;TZID=Europe/London:20260621T111500
DTEND;TZID=Europe/London:20260621T121500
DTSTAMP:20260423T072645Z
UID:2731782036900.0achurchnearyou
CATEGORIES:
DESCRIPTION:This Service of the Word is often led by a member of the laity
 .  Occasionally this service also includes a baptism\, in which case the s
 ervice is led by clergy.\n\nThis service is also streamed on Zoom\, using 
 the link below.\n\nPlease check this page regularly as plans can change at
  short notice!\n\n-----------------------------\nOur regular link:\nJoin Z
 oom Meeting\nhttps://zoom.us/j/95767768068?pwd=QnRUOE9hSjYwS3RNQ0tRMlhIcDJ
 kZz09\n\nMeeting ID: 957 6776 8068\nPasscode: 777\n\n--------------------
GEO:-1.036243;51.485507
LOCATION:St Margaret
URL:https://www.achurchnearyou.com/church/280/service-and-events/events/27
 3/
END:VEVENT
BEGIN:VEVENT
SUMMARY:Holy Communion
DTSTART;TZID=Europe/London:20260628T111500
DTEND;TZID=Europe/London:20260628T123000
DTSTAMP:20260423T072645Z
UID:12703961782641700.0achurchnearyou
CATEGORIES:
DESCRIPTION:We welcome you to a service in St Margaret's Church at 11.15am
 .  \n\nThis service is also streamed on Zoom\, using the link below.  \n\n
   Please check this page regularly as plans can change at short notice!\n\
 n-----------------------------\nOur regular link:\nJoin Zoom Meeting\nhttp
 s://zoom.us/j/95767768068?pwd=QnRUOE9hSjYwS3RNQ0tRMlhIcDJkZz09\n\nMeeting 
 ID: 957 6776 8068\nPasscode: 777\n\n-------------------
LOCATION:St Margaret
URL:https://www.achurchnearyou.com/church/280/service-and-events/events/12
 70396/
END:VEVENT
BEGIN:VEVENT
SUMMARY:Holy Communion
DTSTART;TZID=Europe/London:20260705T111500
DTEND;TZID=Europe/London:20260705T123000
DTSTAMP:20260423T072645Z
UID:12703961783246500.0achurchnearyou
CATEGORIES:
DESCRIPTION:We welcome you to a service in St Margaret's Church at 11.15am
 .  \n\nThis service is also streamed on Zoom\, using the link below.  \n\n
   Please check this page regularly as plans can change at short notice!\n\
 n-----------------------------\nOur regular link:\nJoin Zoom Meeting\nhttp
 s://zoom.us/j/95767768068?pwd=QnRUOE9hSjYwS3RNQ0tRMlhIcDJkZz09\n\nMeeting 
 ID: 957 6776 8068\nPasscode: 777\n\n-------------------
LOCATION:St Margaret
URL:https://www.achurchnearyou.com/church/280/service-and-events/events/12
 70396/
END:VEVENT
BEGIN:VEVENT
SUMMARY:Holy Communion
DTSTART;TZID=Europe/London:20260712T111500
DTEND;TZID=Europe/London:20260712T123000
DTSTAMP:20260423T072645Z
UID:12703961783851300.0achurchnearyou
CATEGORIES:
DESCRIPTION:We welcome you to a service in St Margaret's Church at 11.15am
 .  \n\nThis service is also streamed on Zoom\, using the link below.  \n\n
   Please check this page regularly as plans can change at short notice!\n\
 n-----------------------------\nOur regular link:\nJoin Zoom Meeting\nhttp
 s://zoom.us/j/95767768068?pwd=QnRUOE9hSjYwS3RNQ0tRMlhIcDJkZz09\n\nMeeting 
 ID: 957 6776 8068\nPasscode: 777\n\n-------------------
LOCATION:St Margaret
URL:https://www.achurchnearyou.com/church/280/service-and-events/events/12
 70396/
END:VEVENT
BEGIN:VEVENT
SUMMARY:Sunday Worship
DTSTART;TZID=Europe/London:20260719T111500
DTEND;TZID=Europe/London:20260719T121500
DTSTAMP:20260423T072645Z
UID:2731784456100.0achurchnearyou
CATEGORIES:
DESCRIPTION:This Service of the Word is often led by a member of the laity
 .  Occasionally this service also includes a baptism\, in which case the s
 ervice is led by clergy.\n\nThis service is also streamed on Zoom\, using 
 the link below.\n\nPlease check this page regularly as plans can change at
  short notice!\n\n-----------------------------\nOur regular link:\nJoin Z
 oom Meeting\nhttps://zoom.us/j/95767768068?pwd=QnRUOE9hSjYwS3RNQ0tRMlhIcDJ
 kZz09\n\nMeeting ID: 957 6776 8068\nPasscode: 777\n\n--------------------
GEO:-1.036243;51.485507
LOCATION:St Margaret
URL:https://www.achurchnearyou.com/church/280/service-and-events/events/27
 3/
END:VEVENT
BEGIN:VEVENT
SUMMARY:Holy Communion
DTSTART;TZID=Europe/London:20260726T111500
DTEND;TZID=Europe/London:20260726T123000
DTSTAMP:20260423T072645Z
UID:12703961785060900.0achurchnearyou
CATEGORIES:
DESCRIPTION:We welcome you to a service in St Margaret's Church at 11.15am
 .  \n\nThis service is also streamed on Zoom\, using the link below.  \n\n
   Please check this page regularly as plans can change at short notice!\n\
 n-----------------------------\nOur regular link:\nJoin Zoom Meeting\nhttp
 s://zoom.us/j/95767768068?pwd=QnRUOE9hSjYwS3RNQ0tRMlhIcDJkZz09\n\nMeeting 
 ID: 957 6776 8068\nPasscode: 777\n\n-------------------
LOCATION:St Margaret
URL:https://www.achurchnearyou.com/church/280/service-and-events/events/12
 70396/
END:VEVENT
BEGIN:VEVENT
SUMMARY:Holy Communion
DTSTART;TZID=Europe/London:20260802T111500
DTEND;TZID=Europe/London:20260802T123000
DTSTAMP:20260423T072645Z
UID:12703961785665700.0achurchnearyou
CATEGORIES:
DESCRIPTION:We welcome you to a service in St Margaret's Church at 11.15am
 .  \n\nThis service is also streamed on Zoom\, using the link below.  \n\n
   Please check this page regularly as plans can change at short notice!\n\
 n-----------------------------\nOur regular link:\nJoin Zoom Meeting\nhttp
 s://zoom.us/j/95767768068?pwd=QnRUOE9hSjYwS3RNQ0tRMlhIcDJkZz09\n\nMeeting 
 ID: 957 6776 8068\nPasscode: 777\n\n-------------------
LOCATION:St Margaret
URL:https://www.achurchnearyou.com/church/280/service-and-events/events/12
 70396/
END:VEVENT
BEGIN:VEVENT
SUMMARY:Holy Communion
DTSTART;TZID=Europe/London:20260809T111500
DTEND;TZID=Europe/London:20260809T123000
DTSTAMP:20260423T072645Z
UID:12703961786270500.0achurchnearyou
CATEGORIES:
DESCRIPTION:We welcome you to a service in St Margaret's Church at 11.15am
 .  \n\nThis service is also streamed on Zoom\, using the link below.  \n\n
   Please check this page regularly as plans can change at short notice!\n\
 n-----------------------------\nOur regular link:\nJoin Zoom Meeting\nhttp
 s://zoom.us/j/95767768068?pwd=QnRUOE9hSjYwS3RNQ0tRMlhIcDJkZz09\n\nMeeting 
 ID: 957 6776 8068\nPasscode: 777\n\n-------------------
LOCATION:St Margaret
URL:https://www.achurchnearyou.com/church/280/service-and-events/events/12
 70396/
END:VEVENT
BEGIN:VEVENT
SUMMARY:Sunday Worship
DTSTART;TZID=Europe/London:20260816T111500
DTEND;TZID=Europe/London:20260816T121500
DTSTAMP:20260423T072645Z
UID:2731786875300.0achurchnearyou
CATEGORIES:
DESCRIPTION:This Service of the Word is often led by a member of the laity
 .  Occasionally this service also includes a baptism\, in which case the s
 ervice is led by clergy.\n\nThis service is also streamed on Zoom\, using 
 the link below.\n\nPlease check this page regularly as plans can change at
  short notice!\n\n-----------------------------\nOur regular link:\nJoin Z
 oom Meeting\nhttps://zoom.us/j/95767768068?pwd=QnRUOE9hSjYwS3RNQ0tRMlhIcDJ
 kZz09\n\nMeeting ID: 957 6776 8068\nPasscode: 777\n\n--------------------
GEO:-1.036243;51.485507
LOCATION:St Margaret
URL:https://www.achurchnearyou.com/church/280/service-and-events/events/27
 3/
END:VEVENT
BEGIN:VEVENT
SUMMARY:Holy Communion
DTSTART;TZID=Europe/London:20260823T111500
DTEND;TZID=Europe/London:20260823T123000
DTSTAMP:20260423T072645Z
UID:12703961787480100.0achurchnearyou
CATEGORIES:
DESCRIPTION:We welcome you to a service in St Margaret's Church at 11.15am
 .  \n\nThis service is also streamed on Zoom\, using the link below.  \n\n
   Please check this page regularly as plans can change at short notice!\n\
 n-----------------------------\nOur regular link:\nJoin Zoom Meeting\nhttp
 s://zoom.us/j/95767768068?pwd=QnRUOE9hSjYwS3RNQ0tRMlhIcDJkZz09\n\nMeeting 
 ID: 957 6776 8068\nPasscode: 777\n\n-------------------
LOCATION:St Margaret
URL:https://www.achurchnearyou.com/church/280/service-and-events/events/12
 70396/
END:VEVENT
BEGIN:VEVENT
SUMMARY:Parish Communion
DTSTART;TZID=Europe/London:20260830T111500
DTEND;TZID=Europe/London:20260830T121500
DTSTAMP:20260423T072645Z
UID:3471641788084900.0achurchnearyou
CATEGORIES:
DESCRIPTION:On the fifth Sunday in the month there will usually be one com
 munion service across the whole parish of Caversham Thameside and Mapledur
 ham. The time and venue of this service will be advertised and can usually
  be seen on our website:\n\nhttps://www.ctmparish.org.uk/whats-on/calendar
 /
LOCATION:Check parish website
URL:https://www.ctmparish.org.uk/whats-on/calendar/
END:VEVENT
BEGIN:VEVENT
SUMMARY:Holy Communion
DTSTART;TZID=Europe/London:20260906T111500
DTEND;TZID=Europe/London:20260906T123000
DTSTAMP:20260423T072645Z
UID:12703961788689700.0achurchnearyou
CATEGORIES:
DESCRIPTION:We welcome you to a service in St Margaret's Church at 11.15am
 .  \n\nThis service is also streamed on Zoom\, using the link below.  \n\n
   Please check this page regularly as plans can change at short notice!\n\
 n-----------------------------\nOur regular link:\nJoin Zoom Meeting\nhttp
 s://zoom.us/j/95767768068?pwd=QnRUOE9hSjYwS3RNQ0tRMlhIcDJkZz09\n\nMeeting 
 ID: 957 6776 8068\nPasscode: 777\n\n-------------------
LOCATION:St Margaret
URL:https://www.achurchnearyou.com/church/280/service-and-events/events/12
 70396/
END:VEVENT
BEGIN:VEVENT
SUMMARY:Holy Communion
DTSTART;TZID=Europe/London:20260913T111500
DTEND;TZID=Europe/London:20260913T123000
DTSTAMP:20260423T072645Z
UID:12703961789294500.0achurchnearyou
CATEGORIES:
DESCRIPTION:We welcome you to a service in St Margaret's Church at 11.15am
 .  \n\nThis service is also streamed on Zoom\, using the link below.  \n\n
   Please check this page regularly as plans can change at short notice!\n\
 n-----------------------------\nOur regular link:\nJoin Zoom Meeting\nhttp
 s://zoom.us/j/95767768068?pwd=QnRUOE9hSjYwS3RNQ0tRMlhIcDJkZz09\n\nMeeting 
 ID: 957 6776 8068\nPasscode: 777\n\n-------------------
LOCATION:St Margaret
URL:https://www.achurchnearyou.com/church/280/service-and-events/events/12
 70396/
END:VEVENT
BEGIN:VEVENT
SUMMARY:Sunday Worship
DTSTART;TZID=Europe/London:20260920T111500
DTEND;TZID=Europe/London:20260920T121500
DTSTAMP:20260423T072645Z
UID:2731789899300.0achurchnearyou
CATEGORIES:
DESCRIPTION:This Service of the Word is often led by a member of the laity
 .  Occasionally this service also includes a baptism\, in which case the s
 ervice is led by clergy.\n\nThis service is also streamed on Zoom\, using 
 the link below.\n\nPlease check this page regularly as plans can change at
  short notice!\n\n-----------------------------\nOur regular link:\nJoin Z
 oom Meeting\nhttps://zoom.us/j/95767768068?pwd=QnRUOE9hSjYwS3RNQ0tRMlhIcDJ
 kZz09\n\nMeeting ID: 957 6776 8068\nPasscode: 777\n\n--------------------
GEO:-1.036243;51.485507
LOCATION:St Margaret
URL:https://www.achurchnearyou.com/church/280/service-and-events/events/27
 3/
END:VEVENT
BEGIN:VEVENT
SUMMARY:Holy Communion
DTSTART;TZID=Europe/London:20260927T111500
DTEND;TZID=Europe/London:20260927T123000
DTSTAMP:20260423T072645Z
UID:12703961790504100.0achurchnearyou
CATEGORIES:
DESCRIPTION:We welcome you to a service in St Margaret's Church at 11.15am
 .  \n\nThis service is also streamed on Zoom\, using the link below.  \n\n
   Please check this page regularly as plans can change at short notice!\n\
 n-----------------------------\nOur regular link:\nJoin Zoom Meeting\nhttp
 s://zoom.us/j/95767768068?pwd=QnRUOE9hSjYwS3RNQ0tRMlhIcDJkZz09\n\nMeeting 
 ID: 957 6776 8068\nPasscode: 777\n\n-------------------
LOCATION:St Margaret
URL:https://www.achurchnearyou.com/church/280/service-and-events/events/12
 70396/
END:VEVENT
END:VCALENDAR
